BEGIN:VCALENDAR
VERSION:2.0
PRODID:-//ChamberMaster//Event Calendar 2.0//EN
METHOD:PUBLISH
X-PUBLISHED-TTL:P3D
REFRESH-INTERVAL:P3D
CALSCALE:GREGORIAN
BEGIN:VEVENT
DTSTART:20110808T230000Z
DTEND:20110809T020000Z
X-MICROSOFT-CDO-ALLDAYEVENT:FALSE
SUMMARY:Chicago Brauhaus Presents a Free Outdoor Concert
DESCRIPTION:Chicago Brauhaus\n\n	Presents\n\n	A FREE OUTDOOR CONCERT\n\n	\n\n	For One Night Only! Direct From Luxembourg!\n\n	\n\n	Crazy Cube - 22 Piece Youth Big Band\n\n	\n\n	Monday August 8\, 2011\n\n	6:00pm - 9:00pm in Kempf Plaza\n\n	4732 N. Lincoln Avenue\, Chicago\n\n	\n\n	Brats\, Beer\, and Pretzels Available
X-ALT-DESC;FMTTYPE=text/html:<p style="text-align: center">\n	<span style="font-size: 20px"><span style="font-family: arial"><strong>Chicago Brauhaus</strong></span></span></p>\n<p style="text-align: center">\n	<em><span style="font-size: 12px"><span style="font-family: arial"><strong>Presents</strong></span></span></em></p>\n<p style="text-align: center">\n	<span style="font-size: 24px"><span style="font-family: arial"><strong>A FREE OUTDOOR CONCERT</strong></span></span></p>\n<p style="text-align: center">\n	<br />\n	For One Night Only! Direct From Luxembourg!<br />\n	<br />\n	Crazy Cube - 22 Piece Youth Big Band<br />\n	<br />\n	Monday August 8\, 2011<br />\n	6:00pm - 9:00pm in Kempf Plaza<br />\n	4732 N. Lincoln Avenue\, Chicago<br />\n	<br />\n	Brats\, Beer\, and Pretzels Available</p>\n
LOCATION:Kempf Plaza 4731 N. Lincoln Avenue
UID:e.697.1313
SEQUENCE:3
DTSTAMP:20260420T125222Z
URL:https://www.lincolnsquare.org/events/details/chicago-brauhaus-presents-a-free-outdoor-concert-1313
END:VEVENT

END:VCALENDAR
