BEGIN:VCALENDAR
VERSION:2.0
PRODID:-//ChamberMaster//Event Calendar 2.0//EN
METHOD:PUBLISH
X-PUBLISHED-TTL:P3D
REFRESH-INTERVAL:P3D
CALSCALE:GREGORIAN
BEGIN:VEVENT
DTSTART:20100728T000000Z
DTEND:20100728T010000Z
X-MICROSOFT-CDO-ALLDAYEVENT:FALSE
SUMMARY:Chicago Cycling Essentials
DESCRIPTION:Dr. Kenneth Weber ? Chiropractic Physician\, presents:\n\n\n\nChicago Cycling Essentials\n\n\n\nRavenswood Chiropractic & Wellness Center presents Dr. Kenneth Weber\, a Chiropractic Physician and cycling expert sharing the latest in cycling fitness.  Join us for this free workshop!\n\n\n\nDate: Tuesday\, July 27th 2010\n\n\n\nTime: 7:00 P.M.\n\n\n\nPlace: Ravenswood Chiropractic & Wellness Center\n\n\n\n            5215 North Ravenswood\, Suite 105\n\n\n\n            Chicago\, IL 60640\n\n\n\n            www.RennWellness.com\n\n\n\n            (773) 878-7330\n\n\n\nBenefit from Dr. Weber?s comprehensive research and experience\n\n\n\nIf you?re like most athletes (weekend warriors or professional)\, you are curious about how you can create the optimal cycling environment where you can be your best.  Beginner to moderate\, and advanced cyclists will benefit from the comprehensive approach and learn something new.    Here are just some of the topics he will cover:\n\n\n\n·         Proper bicycle fit\n\n\n\n·         Understanding Safety Gear\n\n\n\n·         Starting a Cycling Program\n\n\n\n·         Cycling for Wellness\n\n\n\n·         Cycling for Fitness\n\n\n\n·         Warm-up Instruction\n\n\n\n·         Nutrition and Hydration for the Cyclist\n\n\n\n·         Cycling related neck\, shoulder\, back\, hip\, knee and foot complaints\n\n\n\nAt this workshop you?ll have an opportunity to find out if your bicycle is properly fitted to you and have an opportunity to ask questions.  Bring your bike!  \n\n\n\nIf you haven?t already done so\, please make your reservation now.  Seating is limited.\n\n\n\nRegister on our website in the Events Section: www.RennWellness.com or\n\n\n\nCall Nadia Hare at (773) 878-7330
X-ALT-DESC;FMTTYPE=text/html:Dr. Kenneth Weber ? Chiropractic Physician\, presents:\n<br>\n<br>Chicago Cycling Essentials\n<br>\n<br>Ravenswood Chiropractic &amp\; Wellness Center presents Dr. Kenneth Weber\, a Chiropractic Physician and cycling expert sharing the latest in cycling fitness.  Join us for this free workshop!\n<br>\n<br>Date: Tuesday\, July 27th 2010\n<br>\n<br>Time: 7:00 P.M.\n<br>\n<br>Place: Ravenswood Chiropractic &amp\; Wellness Center\n<br>\n<br>            5215 North Ravenswood\, Suite 105\n<br>\n<br>            Chicago\, IL 60640\n<br>\n<br>            www.RennWellness.com\n<br>\n<br>            (773) 878-7330\n<br>\n<br>Benefit from Dr. Weber?s comprehensive research and experience\n<br>\n<br>If you?re like most athletes (weekend warriors or professional)\, you are curious about how you can create the optimal cycling environment where you can be your best.  Beginner to moderate\, and advanced cyclists will benefit from the comprehensive approach and learn something new.    Here are just some of the topics he will cover:\n<br>\n<br>·         Proper bicycle fit\n<br>\n<br>·         Understanding Safety Gear\n<br>\n<br>·         Starting a Cycling Program\n<br>\n<br>·         Cycling for Wellness\n<br>\n<br>·         Cycling for Fitness\n<br>\n<br>·         Warm-up Instruction\n<br>\n<br>·         Nutrition and Hydration for the Cyclist\n<br>\n<br>·         Cycling related neck\, shoulder\, back\, hip\, knee and foot complaints\n<br>\n<br>At this workshop you?ll have an opportunity to find out if your bicycle is properly fitted to you and have an opportunity to ask questions.  Bring your bike!  \n<br>\n<br>If you haven?t already done so\, please make your reservation now.  Seating is limited.\n<br>\n<br>Register on our website in the Events Section: www.RennWellness.com or\n<br>\n<br>Call Nadia Hare at (773) 878-7330\n<br>
LOCATION:Ravenswood Chiropractic & Wellness Center 5215 North Ravenswood\, Suite 105 Chicago\, IL 60640
UID:e.697.566
SEQUENCE:3
DTSTAMP:20260421T094601Z
URL:https://www.lincolnsquare.org/events/details/chicago-cycling-essentials-566
END:VEVENT

END:VCALENDAR
