BEGIN:VCALENDAR
VERSION:2.0
PRODID:-//ChamberMaster//Event Calendar 2.0//EN
METHOD:PUBLISH
X-PUBLISHED-TTL:P3D
REFRESH-INTERVAL:P3D
CALSCALE:GREGORIAN
BEGIN:VEVENT
DTSTART;VALUE=DATE:20101126
DTEND;VALUE=DATE:20101129
TRANSP:TRANSPARENT
X-MICROSOFT-CDO-ALLDAYEVENT:TRUE
SUMMARY:Chicago Human Rhythm Project's Global Rhythms 6\,
DESCRIPTION:Celebrate the culmination of Chicago Human Rhythm Project's 20th Anniversary Season with Global Rhythms 6\, four unique concerts featuring earth-shaking percussive arts ensembles from around Chicago\, the nation and the world! \n\n\n\nBy attending Global Rhythms 6 during November 26-28th at the Harris Theater for Music and Dance\, Lawrence Hall Youth Services will receive 50% of the proceeds from your ticket purchase. When you participate\, you'll receive 10% off your ticket price when you mention our partner code: CHRP-LHYS. Help make a difference this holiday season! \n\n\n\n\n\n\n\nGlobal Rhythms-Chicago Human Rhythm Project\n\nHarris Theater for Music and Dance\n\n205 East Randolph Street\, Chicago\n\n\n\n\n\nNovember 26\, 27 and 28th \n\nTICKET PRICES:\n\nFive price levels: $15\, $25\, $35\, $45\, $55 \n\n\n\n\n\nLHYS 10% off PROMO CODE: CHRP-LHYS\n\n\n\nSHOW DATES & TIMES:\n\n\n\nNovember 26 2010 at 8:00 PM \n\nNovember 27 2010 at 3:00 PM \n\nNovember 27 2010 at 8:00 PM \n\nNovember 28 2010 at 3:00 PM \n\n\n\nFor more information or to donate tickets to Lawrence Hall children and their families\, \n\nplease contact Pam West at (312)456-2488.
X-ALT-DESC;FMTTYPE=text/html:Celebrate the culmination of Chicago Human Rhythm Project's 20th Anniversary Season with Global Rhythms 6\, four unique concerts featuring earth-shaking percussive arts ensembles from around Chicago\, the nation and the world! \n<br>\n<br>By attending Global Rhythms 6 during November 26-28th at the Harris Theater for Music and Dance\, Lawrence Hall Youth Services will receive 50% of the proceeds from your ticket purchase. When you participate\, you'll receive 10% off your ticket price when you mention our partner code: CHRP-LHYS. Help make a difference this holiday season! \n<br>\n<br>\n<br>\n<br>Global Rhythms-Chicago Human Rhythm Project\n<br>Harris Theater for Music and Dance\n<br>205 East Randolph Street\, Chicago\n<br>\n<br>\n<br>November 26\, 27 and 28th \n<br>TICKET PRICES:\n<br>Five price levels: $15\, $25\, $35\, $45\, $55 \n<br>\n<br>\n<br>LHYS 10% off PROMO CODE: CHRP-LHYS\n<br>\n<br>SHOW DATES &amp\; TIMES:\n<br>\n<br>November 26 2010 at 8:00 PM \n<br>November 27 2010 at 3:00 PM \n<br>November 27 2010 at 8:00 PM \n<br>November 28 2010 at 3:00 PM \n<br>\n<br>For more information or to donate tickets to Lawrence Hall children and their families\, \n<br>please contact Pam West at (312)456-2488.\n<br>
LOCATION:Harris Theater for Music and Dance 205 East Randolph Street\, Chicago
UID:e.697.686
SEQUENCE:3
DTSTAMP:20260421T032111Z
URL:https://www.lincolnsquare.org/events/details/chicago-human-rhythm-project-s-global-rhythms-6-686
END:VEVENT

END:VCALENDAR
