BEGIN:VCALENDAR
VERSION:2.0
PRODID:-//ChamberMaster//Event Calendar 2.0//EN
METHOD:PUBLISH
X-PUBLISHED-TTL:P3D
REFRESH-INTERVAL:P3D
CALSCALE:GREGORIAN
BEGIN:VEVENT
DTSTART:20110810T230000Z
DTEND:20110811T010000Z
X-MICROSOFT-CDO-ALLDAYEVENT:FALSE
SUMMARY:Chicago Pedestrian Plan - Public Meeting
DESCRIPTION:Know of an intersection that is difficult to cross?\n\n	\n\n	Want to make it easier to walk around your neighborhood?\n\n	\n\n	Have a BIG idea on how to improve Chicago's streets?\n\n	 \nThe Chicago Department of Transportation (CDOT) will hold a meeting to discuss the Chicago Pedestrian Plan.  Come give your thoughts on improving Chicago's pedestrian environment.\n\n\n\nTRUMAN COLLEGE\n\nCafeteria\n\n1145 W. Wilson Avenue\n\nWednesday\, August 10\, 6-8pm
X-ALT-DESC;FMTTYPE=text/html:<p style="text-align: center">\n	<br />\n	<span style="font-size: 14px"><strong>Know of an intersection that is difficult to cross?<br />\n	<br />\n	Want to make it easier to walk around your neighborhood?<br />\n	<br />\n	Have a BIG idea on how to improve Chicago&#39\;s streets?</strong></span><br />\n	&nbsp\;</p>\nThe Chicago Department of Transportation (CDOT) will hold a meeting to discuss the Chicago Pedestrian Plan.&nbsp\; Come give your thoughts on improving Chicago&#39\;s pedestrian environment.<br />\n<br />\n<u>TRUMAN COLLEGE</u><br />\nCafeteria<br />\n1145 W. Wilson Avenue<br />\nWednesday\, August 10\, 6-8pm
LOCATION:Truman College Cafeteria 1145 W. Wilson Avenue
UID:e.697.1330
SEQUENCE:3
DTSTAMP:20260420T123632Z
URL:https://www.lincolnsquare.org/events/details/chicago-pedestrian-plan-public-meeting-1330
END:VEVENT

END:VCALENDAR
