BEGIN:VCALENDAR
VERSION:2.0
PRODID:-//ChamberMaster//Event Calendar 2.0//EN
METHOD:PUBLISH
X-PUBLISHED-TTL:P3D
REFRESH-INTERVAL:P3D
CALSCALE:GREGORIAN
BEGIN:VEVENT
DTSTART:20110608T170000Z
DTEND:20110608T170000Z
X-MICROSOFT-CDO-ALLDAYEVENT:FALSE
SUMMARY:Chicago's Pizza 20th Anniversary Customer Appreciation Days
DESCRIPTION:To celebrate 20 years of serving the North Side community\, Chicago's Pizza Ravenswood @1919W Montrose Avenue will host two events to thank our customers for their continued patronage: \n\n \n\nOn Wednesday\, June 8 from 5:30 to 7:30\, Kids under 12 eat FREE from the children's menu while they are amazed by balloon artist Michelle Weissgerber's creations.\n\n \n\nOn Wednesday\, June 15th from 5:30 to 8:00pm\, Join us for our customer appreciation buffet\, with FREE pizza\, pasta\, salads and soft drinks. \n\n \n\nThere is no need to make reservations\, just print the invitation and present it on the day of the event.\n\n \n\nThank you for your patronage!\n\n \n\nwww.chicagos-pizza.com
X-ALT-DESC;FMTTYPE=text/html:<br />\n<span style="font-size: 10pt"><span style="font-family: arial\, sans-serif">To celebrate 20 years of serving the North Side community\, Chicago&#39\;s Pizza Ravenswood @1919W Montrose Avenue will host two events to thank our customers for their continued patronage:&nbsp\;</span></span><br />\n&nbsp\;<br />\n<span style="font-size: 10pt"><span style="font-family: arial\, sans-serif">On&nbsp\;Wednesday\, June 8 from 5:30 to 7:30\, Kids under 12 eat FREE from the children&#39\;s menu while they are amazed by balloon artist Michelle Weissgerber&#39\;s creations.</span></span><br />\n&nbsp\;<br />\n<span style="font-size: 10pt"><span style="font-family: arial\, sans-serif">On Wednesday\, June 15th from 5:30 to 8:00pm\, Join us for our customer appreciation buffet\, with FREE pizza\, pasta\, salads and soft drinks.&nbsp\;</span></span><br />\n&nbsp\;<br />\n<span style="font-size: 10pt"><span style="font-family: arial\, sans-serif">There is no need to make reservations\, just print the invitation and present it on the day of the event.</span></span><br />\n&nbsp\;<br />\n<span style="font-size: 10pt"><span style="font-family: arial\, sans-serif">Thank you for your patronage!</span></span><br />\n&nbsp\;<br />\n<span style="font-size: 10pt"><span style="font-family: arial\, sans-serif"><a href="http://www.chicagos-pizza.com/" target="_blank"><span style="color: #1c51a8">www.chicagos-pizza.com</span></a></span></span><br />\n
LOCATION:1919 W. Montrose Avenue
UID:e.697.907
SEQUENCE:3
DTSTAMP:20260420T160058Z
URL:https://www.lincolnsquare.org/events/details/chicago-s-pizza-20th-anniversary-customer-appreciation-days-907
END:VEVENT

END:VCALENDAR
