BEGIN:VCALENDAR
VERSION:2.0
PRODID:-//ChamberMaster//Event Calendar 2.0//EN
METHOD:PUBLISH
X-PUBLISHED-TTL:P3D
REFRESH-INTERVAL:P3D
CALSCALE:GREGORIAN
BEGIN:VEVENT
DTSTART:20120811T210000Z
DTEND:20120812T010000Z
X-MICROSOFT-CDO-ALLDAYEVENT:FALSE
SUMMARY:Chicago Shakespeare in the Parks
DESCRIPTION:Chicago Park District and The Boeing Company present free Shakespeare performances to community parks across the City of Chicago this summer. From Portage Park to Humboldt Park and Austin to South Shore\, this summer from July 29 to August 19\, Chicago Shakespeare in the Parks will break down barriers to arts participation and give Chicagoans direct access to their City's cultural resources by bringing free Shakespeare performances into their neighborhoods.\n\n\n\nThe Event will take place - rain or shine.
X-ALT-DESC;FMTTYPE=text/html:<b>Chicago Park District</b> and <b>The Boeing Company</b> present free Shakespeare performances to community parks across the City of Chicago this summer. From Portage Park to Humboldt Park and Austin to South Shore\, this summer from July 29 to August 19\, <b>Chicago Shakespeare in the Parks</b> will break down barriers to arts participation and give <span>Chicagoans</span> direct access to their City&#39\;s cultural resources by bringing free Shakespeare performances into their neighborhoods.<br />\n<br />\n<em>The Event will take place - rain or shine. </em><br />\n<br />\n
LOCATION:2333 W Sunnyside Ave @ Welles Park
UID:e.697.3565
SEQUENCE:3
DTSTAMP:20260420T170959Z
URL:https://www.lincolnsquare.org/events/details/chicago-shakespeare-in-the-parks-3565
END:VEVENT

END:VCALENDAR
