BEGIN:VCALENDAR
VERSION:2.0
PRODID:-//ChamberMaster//Event Calendar 2.0//EN
METHOD:PUBLISH
X-PUBLISHED-TTL:P3D
REFRESH-INTERVAL:P3D
CALSCALE:GREGORIAN
BEGIN:VEVENT
DTSTART:20110827T183000Z
DTEND:20110827T203000Z
X-MICROSOFT-CDO-ALLDAYEVENT:FALSE
SUMMARY:City Caramels Tasting at Provenance Food & Wine
DESCRIPTION:Meet Julie Brown\, founder of City Caramels\, and taste through her neighborhood-centric creations.
X-ALT-DESC;FMTTYPE=text/html:Meet Julie Brown\, founder of City Caramels\, and taste through her neighborhood-centric creations.<br />\n
LOCATION:Lincoln Square location 2312 W. Leland Avenue
UID:e.697.1323
SEQUENCE:3
DTSTAMP:20260420T125215Z
URL:https://www.lincolnsquare.org/events/details/city-caramels-tasting-at-provenance-food-wine-1323
END:VEVENT

END:VCALENDAR
