BEGIN:VCALENDAR
VERSION:2.0
PRODID:-//ChamberMaster//Event Calendar 2.0//EN
METHOD:PUBLISH
X-PUBLISHED-TTL:P3D
REFRESH-INTERVAL:P3D
CALSCALE:GREGORIAN
BEGIN:VEVENT
DTSTART:20110825T220000Z
DTEND:20110826T010000Z
X-MICROSOFT-CDO-ALLDAYEVENT:FALSE
SUMMARY:Cocktail Know-How with Tenzing Wine & Spirits at Provenance
DESCRIPTION:Come join us for a session of cocktail making with bitters & find out how to add depth\, flavor & complexity to your cocktails with little effort & very little moolah! We'll be shaking up a variety of classic cocktails-with and without bitters-to demonstrate what an amazing difference a few drops of this fab elixir can make.
X-ALT-DESC;FMTTYPE=text/html:Come join us for a session of cocktail making with bitters &amp\; find out how to add depth\, flavor &amp\; complexity to your cocktails with little effort &amp\; very little moolah! We&#39\;ll be shaking up a variety of classic cocktails-with and without bitters-to demonstrate what an amazing difference a few drops of this fab elixir can make.
LOCATION:2312 W. Leland Avenue
UID:e.697.1322
SEQUENCE:3
DTSTAMP:20260420T124705Z
URL:https://www.lincolnsquare.org/events/details/cocktail-know-how-with-tenzing-wine-spirits-at-provenance-1322
END:VEVENT

END:VCALENDAR
