BEGIN:VCALENDAR
VERSION:2.0
PRODID:-//ChamberMaster//Event Calendar 2.0//EN
METHOD:PUBLISH
X-PUBLISHED-TTL:P3D
REFRESH-INTERVAL:P3D
CALSCALE:GREGORIAN
BEGIN:VEVENT
DTSTART:20110908T233000Z
DTEND:20110909T003000Z
X-MICROSOFT-CDO-ALLDAYEVENT:FALSE
SUMMARY:Community Gang Education and Awareness Seminar
DESCRIPTION:Community Gang Education and Awareness Seminar Part IV Recruitment\n\n	 \n\n	Where: Chicago Police Department 23rd District\n\n	850 W. Addison Street (Community Room)\n\n	\n\n	When: Thursday\, September 8\, 2011\n\n	at 6:30pm\n\n	Only Adults Invited\n\n	\n\n	Presented by:\n\n	Anita Alvarez\n\n	Cook County State's Attorney's\n\n	Community Justice Center\n\n	\n\n	In Conjunction With:\n\n	Chicago Police Department\n\n	\n\n	Refreshments provided by North Halsted Business Alliance\n\n	\n\n	CALL 773-334-4066 OR EMAIL Lori.trier@cookcountyil.gov BY 9/1/11 TO R.S.V.P.
X-ALT-DESC;FMTTYPE=text/html:<h1>\n	<strong>Community Gang Education and Awareness Seminar Part IV Recruitment</strong><br />\n	&nbsp\;</h1>\n<p style="text-align: center">\n	<span style="font-size: 14px"><strong>Where:</strong> Chicago Police Department 23rd District<br />\n	850 W. Addison Street (Community Room)<br />\n	<br />\n	<strong>When:</strong> Thursday\, September 8\, 2011<br />\n	at 6:30pm<br />\n	Only Adults Invited<br />\n	<br />\n	<strong>Presented by:</strong><br />\n	Anita Alvarez<br />\n	Cook County State&#39\;s Attorney&#39\;s<br />\n	Community Justice Center<br />\n	<br />\n	<strong>In Conjunction With:</strong><br />\n	Chicago Police Department</span><br />\n	<br />\n	<em>Refreshments provided by North Halsted Business Alliance<br />\n	<br />\n	<em>CALL 773-334-4066 OR EMAIL <a href="mailto:Lori.trier@cookcountyil.gov">Lori.trier@cookcountyil.gov</a> BY 9/1/11 TO R.S.V.P.</em></em></p>\n
LOCATION:850 W. ADDISON STREET CHICAGO\, IL
UID:e.697.1337
SEQUENCE:3
DTSTAMP:20260420T112253Z
URL:https://www.lincolnsquare.org/events/details/community-gang-education-and-awareness-seminar-1337
END:VEVENT

END:VCALENDAR
