BEGIN:VCALENDAR
VERSION:2.0
PRODID:-//ChamberMaster//Event Calendar 2.0//EN
METHOD:PUBLISH
X-PUBLISHED-TTL:P3D
REFRESH-INTERVAL:P3D
CALSCALE:GREGORIAN
BEGIN:VEVENT
DTSTART:20110522T170000Z
DTEND:20110522T200000Z
X-MICROSOFT-CDO-ALLDAYEVENT:FALSE
SUMMARY:Community Pet Connection
DESCRIPTION:Join us for educational seminars for you and your pet.  Learn about pet vaccinations\, health tips and the benefits of pet adoption while enjoying free samples\, food\, raffles and fun!
X-ALT-DESC;FMTTYPE=text/html:Join us for educational seminars for you and your pet.&nbsp\; Learn about pet vaccinations\, health tips and the benefits of pet adoption while enjoying free samples\, food\, raffles and fun!
LOCATION:4100 N. Rockwell St
UID:e.697.870
SEQUENCE:3
DTSTAMP:20260420T174434Z
URL:https://www.lincolnsquare.org/events/details/community-pet-connection-870
END:VEVENT

END:VCALENDAR
