BEGIN:VCALENDAR
VERSION:2.0
PRODID:-//ChamberMaster//Event Calendar 2.0//EN
METHOD:PUBLISH
X-PUBLISHED-TTL:P3D
REFRESH-INTERVAL:P3D
CALSCALE:GREGORIAN
BEGIN:VEVENT
DTSTART:20100710T190000Z
DTEND:20100710T200000Z
X-MICROSOFT-CDO-ALLDAYEVENT:FALSE
SUMMARY:Core Strength Instruction: Special Edition Chicago Back School
DESCRIPTION:Chiropractic Physician Dr. Kenneth Weber\n\n\n\nShares his expertise of spinal mechanics and core strength exercises in a SPECIAL EDITION of THE CHICAGO BACK SCHOOL\n\n\n\nCORE STRENGTH INSTRUCTION FOR THE CARE AND PREVENTION OF BACK PAIN\n\n\n\nRavenswood Chiropractic & Wellness Center presents Dr. Kenneth Weber\, a core strength and back pain expert who has a passion for sharing his extensive knowledge of core strengthening exercises with those suffering from back pain and those wishing to avoid it.\n\n\n\nDate: Saturday July 10\, 2010\n\n\n\nTime: 2:00 P.M.\n\n\n\nPlace: Ravenswood Chiropractic & Wellness Center \n\n\n\n            5215 N. Ravenswood\, Suite 105\n\n\n\n            Chicago\, IL  60640\n\n\n\nBENEFIT FROM DR. KENNETH WEBER?S KEEN INSIGHT AND EXPERIENCE\n\n\n\nIf you?re like most chronic back pain sufferers\, you may be anxious to learn about simple and natural drug free home care strategies that you can safely incorporate into your routine that often address the underlying cause of back pain ? Core Strength.  You?ve probably heard about core strength before and wondered what it was all about.  Dr. Weber will strip away all the complications and clearly describe core strength principles and how you can apply them in every day life.\n\n\n\n·         Discover  Basic Core Strength Principles \, Stretches and Exercises\n\n\n\n·         Graduate to Moderate Intensity Core Strength Stretches and Exercises\n\n\n\n·         Achieve Advanced Level understanding of Core Strength Principles\, Stretches and Exercises\n\n\n\nAt this special edition Chicago Back School Workshop\, you?ll also learn about safe lifting\, sitting\, standing and sleeping techniques that help prevent many common back pain injuries and you?ll also have a chance to pose your most challenging back pain questions to the expert.\n\n\n\nHOW TO RESERVE YOUR SEAT\n\n\n\nIf you haven?t already done so\, please make your reservation now.  Seating is limited.\n\n\n\nRegister at the events section of our website: www.RennWellness.com or call Nadia Hare at (773) 878-7330.
X-ALT-DESC;FMTTYPE=text/html:Chiropractic Physician Dr. Kenneth Weber\n<br>\n<br>Shares his expertise of spinal mechanics and core strength exercises in a SPECIAL EDITION of THE CHICAGO BACK SCHOOL\n<br>\n<br>CORE STRENGTH INSTRUCTION FOR THE CARE AND PREVENTION OF BACK PAIN\n<br>\n<br>Ravenswood Chiropractic &amp\; Wellness Center presents Dr. Kenneth Weber\, a core strength and back pain expert who has a passion for sharing his extensive knowledge of core strengthening exercises with those suffering from back pain and those wishing to avoid it.\n<br>\n<br>Date: Saturday July 10\, 2010\n<br>\n<br>Time: 2:00 P.M.\n<br>\n<br>Place: Ravenswood Chiropractic &amp\; Wellness Center \n<br>\n<br>            5215 N. Ravenswood\, Suite 105\n<br>\n<br>            Chicago\, IL  60640\n<br>\n<br>BENEFIT FROM DR. KENNETH WEBER?S KEEN INSIGHT AND EXPERIENCE\n<br>\n<br>If you?re like most chronic back pain sufferers\, you may be anxious to learn about simple and natural drug free home care strategies that you can safely incorporate into your routine that often address the underlying cause of back pain ? Core Strength.  You?ve probably heard about core strength before and wondered what it was all about.  Dr. Weber will strip away all the complications and clearly describe core strength principles and how you can apply them in every day life.\n<br>\n<br>·         Discover  Basic Core Strength Principles \, Stretches and Exercises\n<br>\n<br>·         Graduate to Moderate Intensity Core Strength Stretches and Exercises\n<br>\n<br>·         Achieve Advanced Level understanding of Core Strength Principles\, Stretches and Exercises\n<br>\n<br>At this special edition Chicago Back School Workshop\, you?ll also learn about safe lifting\, sitting\, standing and sleeping techniques that help prevent many common back pain injuries and you?ll also have a chance to pose your most challenging back pain questions to the expert.\n<br>\n<br>HOW TO RESERVE YOUR SEAT\n<br>\n<br>If you haven?t already done so\, please make your reservation now.  Seating is limited.\n<br>\n<br>Register at the events section of our website: www.RennWellness.com or call Nadia Hare at (773) 878-7330.\n<br>
LOCATION:Ravenswood Chiropractic & Wellness Center 5215 North Ravenswood\, Suite 105 Chicago IL 60640
UID:e.697.564
SEQUENCE:3
DTSTAMP:20260421T092319Z
URL:https://www.lincolnsquare.org/events/details/core-strength-instruction-special-edition-chicago-back-school-564
END:VEVENT

END:VCALENDAR
