BEGIN:VCALENDAR
VERSION:2.0
PRODID:-//ChamberMaster//Event Calendar 2.0//EN
METHOD:PUBLISH
X-PUBLISHED-TTL:P3D
REFRESH-INTERVAL:P3D
CALSCALE:GREGORIAN
BEGIN:VEVENT
DTSTART:20101113T200000Z
DTEND:20101113T213000Z
X-MICROSOFT-CDO-ALLDAYEVENT:FALSE
SUMMARY:Couples Massage Therapy Workshop
DESCRIPTION:Join Us Saturday: November 13th at 2:00 P.M. for Couples Massage Therapy Workshop led by Thomas Wiley\, Licensed Chicago Massage Therapist.\n\n\n\nThis couples massage workshop is based on simple\, easy-to-learn Trigger point therapy massage techniques and is designed to help you and your partner relax and enjoy the therapeutic benefits of massage with each other without pain.\n\n\n\nThe first part of the workshop explains the principles and foundational techniques you will need while the second half of the workshop will allow for practice and emphasize the massage techniques and communication skills that will let you use your new skills right away. \n\n\n\nWe limit class size to no more than eight couples to ensure that each couple/pair gets personal attention.  The class is designed for couples\, but other pairs of friends are always welcome.\n\n\n\nWear loose-fitting\, comfortable clothing for the class.  You will be fully clothed during the class.\n\n\n\nClasses are at Ravenswood Chiropractic & Wellness Center. \n\n\n\nDue to limited class size\, pre-registration below is required.\n\n\n\nFor More Information: Nadia Hare (773) 878-7330
X-ALT-DESC;FMTTYPE=text/html:Join Us Saturday: November 13th at 2:00 P.M. for Couples Massage Therapy Workshop led by Thomas Wiley\, Licensed Chicago Massage Therapist.\n<br>\n<br>This couples massage workshop is based on simple\, easy-to-learn Trigger point therapy massage techniques and is designed to help you and your partner relax and enjoy the therapeutic benefits of massage with each other without pain.\n<br>\n<br>The first part of the workshop explains the principles and foundational techniques you will need while the second half of the workshop will allow for practice and emphasize the massage techniques and communication skills that will let you use your new skills right away. \n<br>\n<br>We limit class size to no more than eight couples to ensure that each couple/pair gets personal attention.  The class is designed for couples\, but other pairs of friends are always welcome.\n<br>\n<br>Wear loose-fitting\, comfortable clothing for the class.  You will be fully clothed during the class.\n<br>\n<br>Classes are at Ravenswood Chiropractic &amp\; Wellness Center. \n<br>\n<br>Due to limited class size\, pre-registration below is required.\n<br>\n<br>For More Information: Nadia Hare (773) 878-7330\n<br>\n<br>\n<br>\n<br>
LOCATION:Ravenswood Chiropractic & Wellness Center 5215 North Ravenswood\, Suite 105 Chicago\, IL 60640
UID:e.697.666
SEQUENCE:3
DTSTAMP:20260421T031703Z
URL:https://www.lincolnsquare.org/events/details/couples-massage-therapy-workshop-666
END:VEVENT

END:VCALENDAR
