BEGIN:VCALENDAR
VERSION:2.0
PRODID:-//ChamberMaster//Event Calendar 2.0//EN
METHOD:PUBLISH
X-PUBLISHED-TTL:P3D
REFRESH-INTERVAL:P3D
CALSCALE:GREGORIAN
BEGIN:VEVENT
DTSTART:20120218T203000Z
DTEND:20120218T213000Z
X-MICROSOFT-CDO-ALLDAYEVENT:FALSE
SUMMARY:Couples Massage Workshop
DESCRIPTION:Join us Saturday: February 18th at 2:30 PM for a Couple's Massage Therapy Workshop led by Thomas Wiley and Carlos Matos\, Licensed Chicago Massage Therapists.\n\n\n\nThis Couple's Massage workshop is based on simple\, easy-to-learn Triggerpoint therapy massage techniques and is designed to help you and your partner relax and enjoy the therapeutic benefits of massage with each other without pain.\n\n\n\nThe first part of the workshop explains the principles and foundational techniques you will need while the second half of the workshop will allow for practice and emphasize the massage techniques and communication skills that will let you use your new skills right away. We limit class size to no more than eight couples to ensure that each couple/pair gets personal attention.\n\n\n\nThe class is designed for couples\, but other pairs of friends are always welcome.\n\nWear loose-fitting\, comfortable clothing for the class. You will be fully clothed during the class.\n\n\n\nClasses are at Ravenswood Chiropractic & Wellness Center. Due to limited class size\, pre-registration is required via www.rennwellness.com or by calling 773.878.7330. We'll see you there!
X-ALT-DESC;FMTTYPE=text/html:Join us Saturday: February 18th at 2:30 PM for a Couple&rsquo\;s Massage Therapy Workshop led by Thomas Wiley and Carlos Matos\, Licensed Chicago Massage Therapists.<br />\n<br />\nThis Couple&rsquo\;s Massage workshop is based on simple\, easy-to-learn Triggerpoint therapy massage techniques and is designed to help you and your partner relax and enjoy the therapeutic benefits of massage with each other without pain.<br />\n<br />\nThe first part of the workshop explains the principles and foundational techniques you will need while the second half of the workshop will allow for practice and emphasize the massage techniques and communication skills that will let you use your new skills right away. We limit class size to no more than eight couples to ensure that each couple/pair gets personal attention.<br />\n<br />\nThe class is designed for couples\, but other pairs of friends are always welcome.<br />\nWear loose-fitting\, comfortable clothing for the class. You will be fully clothed during the class.<br />\n<br />\nClasses are at Ravenswood Chiropractic &amp\; Wellness Center. Due to limited class size\, pre-registration is required via www.rennwellness.com or by calling 773.878.7330. We&rsquo\;ll see you there!<br />\n
LOCATION:Ravenswood Chiropractic & Wellness Center\, 5215 N Ravenswood\, 105 60640
UID:e.697.2466
SEQUENCE:3
DTSTAMP:20260420T045527Z
URL:https://www.lincolnsquare.org/events/details/couples-massage-workshop-2466
END:VEVENT

END:VCALENDAR
