BEGIN:VCALENDAR
VERSION:2.0
PRODID:-//ChamberMaster//Event Calendar 2.0//EN
METHOD:PUBLISH
X-PUBLISHED-TTL:P3D
REFRESH-INTERVAL:P3D
CALSCALE:GREGORIAN
BEGIN:VEVENT
DTSTART:20110912T140000Z
DTEND:20110912T140000Z
X-MICROSOFT-CDO-ALLDAYEVENT:FALSE
SUMMARY:CPD 20th District Golf Outing
DESCRIPTION:Chicago Police Department\n\n	20th District Golf Outing\n\n	    \n\n	\n\n	\n\n	\n\n	\n\n	Monday\, September 12\, 2011\n\n	(Day off Group 64-65)\n\n	\n\n	Shot Gun Start at 9:00am\n\n	Ticket Price: $100.00 per Golfer\n\n	Ticket Price Includes: Green Fee\, Cart. Refreshments and Buffet Style Dinner.\n\n	Hot Dogs and Refreshments at the 9th Hole\n   \n\n Location and Directions\n\nThe Aboretum Club\n\n401 W. Half Day Road\n\nBuffalo Grove\, IL 60089\n\n847-913-9112\n\n\n\nTake I-94 West towards Milwaukee to Illinois 22 (Half Day Road)\,\n\nTurn left onto Half Day Road\,\n\nThe Aboretum Club will be on your left hand side.\n\n\n\nFor tickets\, contact:\n\nLieutenant David Dolan           312-742-8831\n\nSergeant Kevin Neary              312-742-8714\n\nSergeant Erik Madsen             312-742-8763\n\nSergeant Norman Kwong       312-742-8770\n\nOfficer Cesar Garcia                312-742-8770\n\nOfficer Marijo Ward                   312-742-8720
X-ALT-DESC;FMTTYPE=text/html:<h1>\n	Chicago Police Department</h1>\n<h1>\n	20th District Golf Outing</h1>\n<p style="text-align: center">\n	<span _fck_bookmark="1" style="display: none">&nbsp\;</span><span _fck_bookmark="1" style="display: none">&nbsp\;</span><span _fck_bookmark="1" style="display: none">&nbsp\;</span><span _fck_bookmark="1" style="display: none">&nbsp\;</span><br />\n	<br />\n	<br />\n	<br />\n	<br />\n	<span style="font-size: 14px">Monday\, September 12\, 2011<br />\n	(Day off Group 64-65)<br />\n	<br />\n	<u><strong>Shot Gun Start at 9:00am</strong></u><br />\n	<strong>Ticket Price:</strong> $100.00 per Golfer<br />\n	<strong>Ticket Price Includes:</strong> Green Fee\, Cart. Refreshments and Buffet Style Dinner.<br />\n	Hot Dogs and Refreshments at the 9th Hole</span></p>\n<span _fck_bookmark="1" style="display: none">&nbsp\;</span><span _fck_bookmark="1" style="display: none">&nbsp\;</span><span _fck_bookmark="1" style="display: none">&nbsp\;</span><br />\n<span _fck_bookmark="1" style="display: none">&nbsp\;</span><u>Location and Directions</u><br />\nThe Aboretum Club<br />\n401 W. Half Day Road<br />\nBuffalo Grove\, IL 60089<br />\n847-913-9112<br />\n<br />\nTake I-94 West towards Milwaukee to Illinois 22 (Half Day Road)\,<br />\nTurn left onto Half Day Road\,<br />\nThe Aboretum Club will be on your left hand side.<br />\n<br />\n<u>For tickets\, contact:</u><br />\nLieutenant David Dolan&nbsp\;&nbsp\;&nbsp\;&nbsp\;&nbsp\;&nbsp\;&nbsp\;&nbsp\;&nbsp\;&nbsp\; 312-742-8831<br />\nSergeant Kevin Neary&nbsp\;&nbsp\;&nbsp\;&nbsp\;&nbsp\;&nbsp\;&nbsp\;&nbsp\;&nbsp\;&nbsp\;&nbsp\;&nbsp\;&nbsp\; 312-742-8714<br />\nSergeant Erik Madsen&nbsp\;&nbsp\;&nbsp\;&nbsp\;&nbsp\;&nbsp\;&nbsp\;&nbsp\;&nbsp\;&nbsp\;&nbsp\;&nbsp\; 312-742-8763<br />\nSergeant Norman Kwong&nbsp\;&nbsp\;&nbsp\;&nbsp\;&nbsp\;&nbsp\; 312-742-8770<br />\nOfficer Cesar Garcia&nbsp\;&nbsp\;&nbsp\;&nbsp\;&nbsp\;&nbsp\;&nbsp\;&nbsp\;&nbsp\;&nbsp\;&nbsp\;&nbsp\;&nbsp\;&nbsp\;&nbsp\;&nbsp\;312-742-8770<br />\nOfficer Marijo Ward&nbsp\;&nbsp\;&nbsp\;&nbsp\;&nbsp\;&nbsp\;&nbsp\;&nbsp\;&nbsp\;&nbsp\;&nbsp\;&nbsp\;&nbsp\;&nbsp\;&nbsp\;&nbsp\;&nbsp\;&nbsp\; 312-742-8720
LOCATION:The Aboretum Club 401 W. Half Day Road Buffalo Grove\, IL 60089 847-913-9112
UID:e.697.1338
SEQUENCE:3
DTSTAMP:20260420T110110Z
URL:https://www.lincolnsquare.org/events/details/cpd-20th-district-golf-outing-1338
END:VEVENT

END:VCALENDAR
