BEGIN:VCALENDAR
VERSION:2.0
PRODID:-//ChamberMaster//Event Calendar 2.0//EN
METHOD:PUBLISH
X-PUBLISHED-TTL:P3D
REFRESH-INTERVAL:P3D
CALSCALE:GREGORIAN
BEGIN:VEVENT
DTSTART:20120520T220000Z
DTEND:20120521T000000Z
X-MICROSOFT-CDO-ALLDAYEVENT:FALSE
SUMMARY:Critically Thinking about Chicago Public Schools
DESCRIPTION:Critically Thinking about Chicago Public Schools\n	\n		  \n	\n		Public Forum\n	\n		 \n	\n		Panel Presentation\n	\n		Q-A session. \n	\n		 \n	\n		\n			The notion of education reform is not a contentious issue for the vast majority of Chicago voters\, as 82% consider reform either extremely or very important. However\, not all reform is viewed the same. What shape does that reform take? Hear from members of the community involved in reshaping education so it benefits all stakeholders.\n		\n			 \n		\n			Ameya Pawar\n		\n			Invited - 47th Ward Alderman\n\n			Jackson Potter \n		\n			Chicago Teachers Union Staff Coordinator\n		\n			Kurt Hilgendorf\n		\n			CTU CPS Budget Evaluation Committee\n		\n			Kate Brandt\n		\n			6.5 to Thrive \n		\n			Wanda Hopkins\n		\n			Parents United for Responsible Education (P.U.R.E) \n		\n			Sonia Kwon\n		\n			Raise Your Hand - Illinois \n		\n			Raul Botello \n		\n			Albany Park Neighborhood Council (A.P.N.C.) \n		\n			Victor Alquicira \n		\n			VOYCE - Voices of Youth in Chicago Education\n		\n			 \n		\n			CPS Board Members \n		\n			Invited
X-ALT-DESC;FMTTYPE=text/html:<div style="color: gray">\n	<div>\n		<strong><span style="font-family: 'times new roman'\, 'serif'">Critically Thinking about Chicago Public Schools</span></strong></div>\n	<div>\n		<span style="font-family: 'times new roman'\, 'serif'">&nbsp\; </span></div>\n	<div>\n		Public Forum</div>\n	<div>\n		&nbsp\;</div>\n	<div>\n		Panel Presentation</div>\n	<div>\n		Q-A session.&nbsp\;</div>\n	<div>\n		<span style="font-family: 'times new roman'\, 'serif'">&nbsp\;</span></div>\n	<div>\n		<div>\n			The notion of education reform is not a contentious issue for the vast majority of Chicago voters\, as 82% consider reform either extremely or very important. However\, not all reform is viewed the same. What shape does that reform take? Hear from members of the community involved in reshaping education so it benefits all stakeholders.</div>\n		<div>\n			<span style="font-family: 'times new roman'\, 'serif'">&nbsp\;</span></div>\n		<div>\n			<strong><span style="font-family: 'times new roman'\, 'serif'">Ameya Pawar</span></strong></div>\n		<div>\n			<em><span style="font-family: 'times new roman'\, 'serif'\; font-size: 10pt">Invited - 47th Ward Alderman</span></em><br />\n			<span style="font-family: 'times new roman'\, 'serif'"><strong>Jackson Potter</strong> </span></div>\n		<div>\n			<em><span style="font-family: 'times new roman'\, 'serif'\; font-size: 10pt">Chicago Teachers Union Staff Coordinator</span></em></div>\n		<div>\n			<strong><span style="font-family: 'times new roman'\, 'serif'">Kurt Hilgendorf</span></strong></div>\n		<div>\n			<em><span style="font-family: 'times new roman'\, 'serif'\; font-size: 10pt">CTU CPS Budget Evaluation Committee</span></em></div>\n		<div>\n			<strong><span style="font-family: 'times new roman'\, 'serif'">Kate Brandt</span></strong></div>\n		<div>\n			<em><span style="font-family: 'times new roman'\, 'serif'\; font-size: 10pt">6.5 to Thrive </span></em></div>\n		<div>\n			<strong><span style="font-family: 'times new roman'\, 'serif'">Wanda Hopkins</span></strong></div>\n		<div>\n			<em><span style="font-family: 'times new roman'\, 'serif'\; font-size: 10pt">Parents United for Responsible Education (P.U.R.E)&nbsp\;</span></em></div>\n		<div>\n			<strong><span style="font-family: 'times new roman'\, 'serif'">Sonia Kwon</span></strong></div>\n		<div>\n			<em><span style="font-family: 'times new roman'\, 'serif'\; font-size: 10pt">Raise Your Hand - Illinois&nbsp\;</span></em></div>\n		<div>\n			<strong><span style="font-family: 'times new roman'\, 'serif'">Raul Botello </span></strong></div>\n		<div>\n			<em><span style="font-family: 'times new roman'\, 'serif'\; font-size: 10pt">Albany Park Neighborhood Council (A.P.N.C.) </span></em></div>\n		<div>\n			<strong><span style="font-family: 'times new roman'\, 'serif'">Victor Alquicira </span></strong></div>\n		<div>\n			<em><span style="font-family: 'times new roman'\, 'serif'\; font-size: 10pt">VOYCE - Voices of Youth in Chicago Education</span></em></div>\n		<div>\n			<span style="font-family: 'times new roman'\, 'serif'">&nbsp\;</span></div>\n		<div>\n			<span style="font-family: 'times new roman'\, 'serif'">CPS Board Members </span></div>\n		<div>\n			<em><span style="font-family: 'times new roman'\, 'serif'\; font-size: 10pt">Invited <span _fck_bookmark="1" style="display: none">&nbsp\;</span></span></em></div>\n		<br />\n		<span _fck_bookmark="1" style="display: none">&nbsp\;</span></div>\n</div>\n
LOCATION:Luther Memorial Church 2500 W. Wilson Chicago\, IL
UID:e.697.2581
SEQUENCE:3
DTSTAMP:20260419T221440Z
URL:https://www.lincolnsquare.org/events/details/critically-thinking-about-chicago-public-schools-2581
END:VEVENT

END:VCALENDAR
