BEGIN:VCALENDAR
VERSION:2.0
PRODID:-//ChamberMaster//Event Calendar 2.0//EN
METHOD:PUBLISH
X-PUBLISHED-TTL:P3D
REFRESH-INTERVAL:P3D
CALSCALE:GREGORIAN
BEGIN:VEVENT
DTSTART:20110414T190000Z
DTEND:20110414T200000Z
X-MICROSOFT-CDO-ALLDAYEVENT:FALSE
SUMMARY:Current Nutritional Therapies as they Relate to Chronic Fatigue
DESCRIPTION:Current Nutritional Therapies as they Relate to Chronic Fatigue\n\n\n\nJoin us on Saturday\, April 16th at 2:00 PM to discover current nutritional therapies as they relate to chronic fatigue.\n\n\n\nPresented by Dr. Todd Renn\, Chiropractic Physician at Ravenswood Chiropractic & Wellness Center\, 5215 North Ravenswood\, Suite 105\,  Chicago\, IL\, 60640.\n\n\n\nSeating is limited\, please reserve your seat(s) by Friday\, April 15th by calling Nadia at 773.878.7330 or by visiting the events section of our website www.RennWellness.com.
X-ALT-DESC;FMTTYPE=text/html:Current Nutritional Therapies as they Relate to Chronic Fatigue\n<br>\n<br>Join us on Saturday\, April 16th at 2:00 PM to discover current nutritional therapies as they relate to chronic fatigue.\n<br>\n<br>Presented by Dr. Todd Renn\, Chiropractic Physician at Ravenswood Chiropractic &amp\; Wellness Center\, 5215 North Ravenswood\, Suite 105\,  Chicago\, IL\, 60640.\n<br>\n<br>Seating is limited\, please reserve your seat(s) by Friday\, April 15th by calling Nadia at 773.878.7330 or by visiting the events section of our website www.RennWellness.com.\n<br>\n<br>
LOCATION:Ravenswood Chiropractic & Wellness Center 5215 North Ravenswood\, Suite 105 Chicago\, IL 60640
UID:e.697.845
SEQUENCE:3
DTSTAMP:20260420T205449Z
URL:https://www.lincolnsquare.org/events/details/current-nutritional-therapies-as-they-relate-to-chronic-fatigue-845
END:VEVENT

END:VCALENDAR
