BEGIN:VCALENDAR
VERSION:2.0
PRODID:-//ChamberMaster//Event Calendar 2.0//EN
METHOD:PUBLISH
X-PUBLISHED-TTL:P3D
REFRESH-INTERVAL:P3D
CALSCALE:GREGORIAN
BEGIN:VEVENT
DTSTART:20120413T223000Z
DTEND:20120414T013000Z
X-MICROSOFT-CDO-ALLDAYEVENT:FALSE
SUMMARY:Date Night from Pickle's Playroom
DESCRIPTION:Treat yourself to a night out in the Square with Pickle's Playroom date night service.  Drop the kids off between 5:30 and 6pm and let us handle the rest.  There will be fun activities\, games\, movies and more.  Pizza and milk or juice will also be provided. \n\n	\n\n	Parents recieve 20% off their meal if they dine at Trattoria Trullo!\n\n	 P   P
X-ALT-DESC;FMTTYPE=text/html:<h2 style="font-size: 1.5em">\n	Treat yourself to a night out in the Square with Pickle&#39\;s Playroom date night service. &nbsp\;Drop the kids off between 5:30 and 6pm and let us handle the rest. &nbsp\;There will be fun activities\, games\, movies and more. &nbsp\;Pizza and milk or juice will also be provided.&nbsp\;<br />\n	<br />\n	Parents recieve 20% off their meal if they dine at Trattoria Trullo!<br />\n	<span _fck_bookmark="1" style="display: none">&nbsp\;P&nbsp\;&nbsp\; P</span><br />\n	<br />\n	&nbsp\;</h2>\n
LOCATION:2315 W. Lawrence Ave. Chicago.
UID:e.697.2539
SEQUENCE:3
DTSTAMP:20260419T235131Z
URL:https://www.lincolnsquare.org/events/details/date-night-2539
END:VEVENT

END:VCALENDAR
