BEGIN:VCALENDAR
VERSION:2.0
PRODID:-//ChamberMaster//Event Calendar 2.0//EN
METHOD:PUBLISH
X-PUBLISHED-TTL:P3D
REFRESH-INTERVAL:P3D
CALSCALE:GREGORIAN
BEGIN:VEVENT
DTSTART:20110413T000000Z
DTEND:20110413T010000Z
X-MICROSOFT-CDO-ALLDAYEVENT:FALSE
SUMMARY:Discover the Benefits of Acupuncture During Pregnancy
DESCRIPTION:Discover the Benefits of Acupuncture During Pregnancy\n\n\n\nRavenswood Chiropractic & Wellness Center proudly presents Tracie Hinton-Chavez\, a Licensed Chicago Acupuncturist and pregnancy support expert who will share with you the amazing concepts of Traditional Chinese Medicine that support a strong and healthy pregnancy and recovery strategies that maximize healing and energy.  Join us for this free workshop!  \n\n\n\nDate: Tuesday:  April 12th\n\nTime:  07:00 P.M.\n\nPlace: Ravenswood Chiropractic & Wellness Center\n\n            5215 North Ravenswood\, Suite 105\n\n            Chicago\, IL 60640\n\n            www.RennWellness.com\n\n            (773) 878-7330\n\n\n\nBenefit from Tracie Hinton-Chavez?s comprehensive research and experience.\n\n\n\nTopics to be covered include:\n\nPlanning For a Healthy Pregnancy for Mom and Dad\n\n?	Fertility and Chinese and Western Medicine\n\n?	Foods and Herbal supports\n\nDuring Pregnancy\n\n?	Morning Sickness\n\n?	Strengthening the Immune System\n\n?	Aches\, Pains\, and Swelling\n\n?	Digestive Issues\n\nPreparing  for  Birth\n\n?	Turning breech babies\n\n?	Natural Labor Induction\n\n?	Pain and discomfort during Labor and Delivery\n\nPostpartum Considerations\n\n?	Insufficient lactation\n\n?	Uterine Prolapse\n\n?	Postpartum Depression and Fatigue\n\nIf you haven?t already done so\, please make your reservation before April  11th.  Seating is limited.\n\nRegister on our website in the Events Section: www.RennWellness.com or\n\nCall Nadia Hare at (773) 878-7330
X-ALT-DESC;FMTTYPE=text/html:Discover the Benefits of Acupuncture During Pregnancy\n<br>\n<br>Ravenswood Chiropractic &amp\; Wellness Center proudly presents Tracie Hinton-Chavez\, a Licensed Chicago Acupuncturist and pregnancy support expert who will share with you the amazing concepts of Traditional Chinese Medicine that support a strong and healthy pregnancy and recovery strategies that maximize healing and energy.  Join us for this free workshop!  \n<br>\n<br>Date: Tuesday:  April 12th\n<br>Time:  07:00 P.M.\n<br>Place: Ravenswood Chiropractic &amp\; Wellness Center\n<br>            5215 North Ravenswood\, Suite 105\n<br>            Chicago\, IL 60640\n<br>            www.RennWellness.com\n<br>            (773) 878-7330\n<br>\n<br>Benefit from Tracie Hinton-Chavez?s comprehensive research and experience.\n<br>\n<br>Topics to be covered include:\n<br>Planning For a Healthy Pregnancy for Mom and Dad\n<br>?	Fertility and Chinese and Western Medicine\n<br>?	Foods and Herbal supports\n<br>During Pregnancy\n<br>?	Morning Sickness\n<br>?	Strengthening the Immune System\n<br>?	Aches\, Pains\, and Swelling\n<br>?	Digestive Issues\n<br>Preparing  for  Birth\n<br>?	Turning breech babies\n<br>?	Natural Labor Induction\n<br>?	Pain and discomfort during Labor and Delivery\n<br>Postpartum Considerations\n<br>?	Insufficient lactation\n<br>?	Uterine Prolapse\n<br>?	Postpartum Depression and Fatigue\n<br>If you haven?t already done so\, please make your reservation before April  11th.  Seating is limited.\n<br>Register on our website in the Events Section: www.RennWellness.com or\n<br>Call Nadia Hare at (773) 878-7330\n<br>
LOCATION:Ravenswood Chiropractic & Wellness Center 5215 North Ravenswood\, Suite 105 Chicago\, IL 60640
UID:e.697.846
SEQUENCE:3
DTSTAMP:20260420T194014Z
URL:https://www.lincolnsquare.org/events/details/discover-the-benefits-of-acupuncture-during-pregnancy-846
END:VEVENT

END:VCALENDAR
