BEGIN:VCALENDAR
VERSION:2.0
PRODID:-//ChamberMaster//Event Calendar 2.0//EN
METHOD:PUBLISH
X-PUBLISHED-TTL:P3D
REFRESH-INTERVAL:P3D
CALSCALE:GREGORIAN
BEGIN:VEVENT
DTSTART:20101111T220000Z
DTEND:20101112T010000Z
X-MICROSOFT-CDO-ALLDAYEVENT:FALSE
SUMMARY:Dream Town Grand Opening
DESCRIPTION:Hello!\n\n\n\nPlease join us for our open house of our new location in Lincoln Square.  We are located at 4553 N Lincoln Ave\, at the corner of Lincoln and Wilson.  \n\n\n\nThe open house will be today\, November 11th from 4:00 pm to 7:00 pm.  There will be champagne\, and hors d?oeuvres\, and even a magician!\n\n\n\nThank you so much\, and we hope to see you then\, \n\n\n\nBarbara O'Connor\n\nManaging Broker\n\nDream Town Realty
X-ALT-DESC;FMTTYPE=text/html:Hello!\n<br>\n<br>Please join us for our open house of our new location in Lincoln Square.  We are located at 4553 N Lincoln Ave\, at the corner of Lincoln and Wilson.  \n<br>\n<br>The open house will be today\, November 11th from 4:00 pm to 7:00 pm.  There will be champagne\, and hors d?oeuvres\, and even a magician!\n<br>\n<br>Thank you so much\, and we hope to see you then\, \n<br>\n<br>Barbara O'Connor\n<br>Managing Broker\n<br>Dream Town Realty
LOCATION:4553 N Lincoln
UID:e.697.677
SEQUENCE:3
DTSTAMP:20260421T032114Z
URL:https://www.lincolnsquare.org/events/details/dream-town-grand-opening-677
END:VEVENT

END:VCALENDAR
