BEGIN:VCALENDAR
VERSION:2.0
PRODID:-//ChamberMaster//Event Calendar 2.0//EN
METHOD:PUBLISH
X-PUBLISHED-TTL:P3D
REFRESH-INTERVAL:P3D
CALSCALE:GREGORIAN
BEGIN:VEVENT
DTSTART:20100528T000000Z
DTEND:20100528T020000Z
X-MICROSOFT-CDO-ALLDAYEVENT:FALSE
SUMMARY:Engineers Without Borders Meet and Greet
DESCRIPTION:Engineers Without Borders USA is a non-profit organization dedicated to creating a more stable\, sustainable and prosperous world by addressing people?s basic human needs through providing necessities such as clean water\, power\, sanitation\, and education in 45 developing countries worldwide. \n\n  \n\nLearn what you can do to help the Chicago Chapter of EWB assist our neighbors throughout the world! \n\n \n\nFor more information call Luther Memorial Church at 773 539-3018
X-ALT-DESC;FMTTYPE=text/html:Engineers Without Borders USA is a non-profit organization dedicated to creating a more stable\, sustainable and prosperous world by addressing people?s basic human needs through providing necessities such as clean water\, power\, sanitation\, and education in 45 developing countries worldwide. \n<br>  \n<br>Learn what you can do to help the Chicago Chapter of EWB assist our neighbors throughout the world! \n<br> \n<br>For more information call Luther Memorial Church at 773 539-3018 
LOCATION:Luther Memorial Church 2500 W. Wilson
UID:e.697.511
SEQUENCE:3
DTSTAMP:20260421T123354Z
URL:https://www.lincolnsquare.org/events/details/engineers-without-borders-meet-and-greet-511
END:VEVENT

END:VCALENDAR
