BEGIN:VCALENDAR
VERSION:2.0
PRODID:-//ChamberMaster//Event Calendar 2.0//EN
METHOD:PUBLISH
X-PUBLISHED-TTL:P3D
REFRESH-INTERVAL:P3D
CALSCALE:GREGORIAN
BEGIN:VEVENT
DTSTART:20101214T010000Z
DTEND:20101214T050000Z
X-MICROSOFT-CDO-ALLDAYEVENT:FALSE
SUMMARY:Lance Briggs Holiday Party
DESCRIPTION:Inaugural Lance Briggs Holiday Party\n\n\n\nCome celebrate the holidays and watch Monday Night Football with Lance Briggs of the Chicago Bears! The $55 ticket price to Lances' Inaugural Holiday Party includes an open bar\, food\, raffle and silent auction! \n\n\n\nLaurence Holmes of 670 The Score will emcee the festivities\, ambiance provided by DJ Heaven Malone\, photographers from White Shutter\, as well as a photo booth from ShutterBox will capture everything! Doors will open promptly at 7:00 p.m.\, with kickoff for the Ravens vs. Texans to follow at 7:30 p.m.\n\n\n\nAll proceeds from Lance Briggs' Holiday Party will be used to benefit the Children of the Chicago Housing Authority and Lance's 2nd Annual Chicago Football camp. To purchase tickets or for more information please visit:\n\n\n\nhttp://actofgood.org/causes/210-briggs4kidz-inc/events/400 \n\n\n\nTickets to this event are limited and it will sell out\, so please do not wait!
X-ALT-DESC;FMTTYPE=text/html:Inaugural Lance Briggs Holiday Party\n<br>\n<br>Come celebrate the holidays and watch Monday Night Football with Lance Briggs of the Chicago Bears! The $55 ticket price to Lances' Inaugural Holiday Party includes an open bar\, food\, raffle and silent auction! \n<br>\n<br>Laurence Holmes of 670 The Score will emcee the festivities\, ambiance provided by DJ Heaven Malone\, photographers from White Shutter\, as well as a photo booth from ShutterBox will capture everything! Doors will open promptly at 7:00 p.m.\, with kickoff for the Ravens vs. Texans to follow at 7:30 p.m.\n<br>\n<br>All proceeds from Lance Briggs' Holiday Party will be used to benefit the Children of the Chicago Housing Authority and Lance's 2nd Annual Chicago Football camp. To purchase tickets or for more information please visit:\n<br>\n<br>http://actofgood.org/causes/210-briggs4kidz-inc/events/400 \n<br>\n<br>Tickets to this event are limited and it will sell out\, so please do not wait!
LOCATION:42N Latitude\, Kitchen & Cocktails 4500 N. Lincoln Ave.
UID:e.697.691
SEQUENCE:3
DTSTAMP:20260421T014223Z
URL:https://www.lincolnsquare.org/events/details/event-at-42-n-latitude-691
END:VEVENT

END:VCALENDAR
