BEGIN:VCALENDAR
VERSION:2.0
PRODID:-//ChamberMaster//Event Calendar 2.0//EN
METHOD:PUBLISH
X-PUBLISHED-TTL:P3D
REFRESH-INTERVAL:P3D
CALSCALE:GREGORIAN
BEGIN:VEVENT
DTSTART:20120430T010000Z
DTEND:20120430T030000Z
X-MICROSOFT-CDO-ALLDAYEVENT:FALSE
SUMMARY:Event at Angel Food Bakery
DESCRIPTION:Angel Food Bakery\n\nRavenswood Runners\n\nBrunch Special\n\n\n\nTwo scrambled eggs\, potatoes\, toast and orange juice or coffee \n\nonly $7.50\n\n(show your number to get the special)
X-ALT-DESC;FMTTYPE=text/html:Angel Food Bakery<br />\nRavenswood Runners<br />\nBrunch Special<br />\n<br />\nTwo scrambled eggs\, potatoes\, toast and orange juice or coffee&nbsp\;<br />\nonly $7.50<br />\n(show your number to get the special)
LOCATION:Angel Food Bakery 1636 West Montrose Ave.
UID:e.697.2562
SEQUENCE:3
DTSTAMP:20260419T235502Z
URL:https://www.lincolnsquare.org/events/details/event-at-angel-food-bakery-2562
END:VEVENT

END:VCALENDAR
