BEGIN:VCALENDAR
VERSION:2.0
PRODID:-//ChamberMaster//Event Calendar 2.0//EN
METHOD:PUBLISH
X-PUBLISHED-TTL:P3D
REFRESH-INTERVAL:P3D
CALSCALE:GREGORIAN
BEGIN:VEVENT
DTSTART:20100523T200000Z
DTEND:20100523T230000Z
X-MICROSOFT-CDO-ALLDAYEVENT:FALSE
SUMMARY:Event at DANK Haus German American Cultural Center
DESCRIPTION:The afternoon?s program includes works from Allegri\, Joquin\, Mahler\, Mendelssohn\, Schumann\, and more.\n\n\n\nBach and Beyond presents ? Musik für die Kirche? und ?Die Lieder und Briefe von Gustav Mahler?. The program presents the Bach and Beyond choir in a cappella masterworks by Allegri\, Josquin and Mendelssohn. Also featured are Nancy Pifer\, Soprano\, Sandra Cross\, Soprano\, Martine Benmann\, Cello and Scott Will\, Piano.\n\nBach and Beyond - Music for the Community\, is a local concert series founded in 2001 for the Lincoln Square neighborhood and surrounding communities. In our five to six seasonal concerts you can expect to hear everything from Bach and Handel to Mozart and Beethoven.
X-ALT-DESC;FMTTYPE=text/html:<br>The afternoon?s program includes works from Allegri\, Joquin\, Mahler\, Mendelssohn\, Schumann\, and more.\n<br>\n<br>Bach and Beyond presents ? Musik für die Kirche? und ?Die Lieder und Briefe von Gustav Mahler?. The program presents the Bach and Beyond choir in a cappella masterworks by Allegri\, Josquin and Mendelssohn. Also featured are Nancy Pifer\, Soprano\, Sandra Cross\, Soprano\, Martine Benmann\, Cello and Scott Will\, Piano.\n<br>Bach and Beyond - Music for the Community\, is a local concert series founded in 2001 for the Lincoln Square neighborhood and surrounding communities. In our five to six seasonal concerts you can expect to hear everything from Bach and Handel to Mozart and Beethoven.
LOCATION:DANK HAUS 4740 N Western Free parking available at MB Financial lot Western & Gunnison. DANK ?Haus is located ½ block from the Western Brown Line stop.
UID:e.697.479
SEQUENCE:3
DTSTAMP:20260421T125001Z
URL:https://www.lincolnsquare.org/events/details/event-at-dank-haus-german-american-cultural-center-479
END:VEVENT

END:VCALENDAR
