BEGIN:VCALENDAR
VERSION:2.0
PRODID:-//ChamberMaster//Event Calendar 2.0//EN
METHOD:PUBLISH
X-PUBLISHED-TTL:P3D
REFRESH-INTERVAL:P3D
CALSCALE:GREGORIAN
BEGIN:VEVENT
DTSTART;VALUE=DATE:20100603
DTEND;VALUE=DATE:20100607
TRANSP:TRANSPARENT
X-MICROSOFT-CDO-ALLDAYEVENT:TRUE
SUMMARY:Event at DANK Haus German American Cultural Center
DESCRIPTION:That bar doesn't build itself. German engineering will one day prevail but till then...\n\n\n\nIt takes over 250 people 3 days to raise about $100k of direct support for German cultural programming and service.\n\n\n\nAnd? It is beyond fun! So fun\, volunteer shifts filled up last year and some people missed out.\n\n\n\nSign up today to secure your place cutting cake\, pouring beer\, and dragging it all back to the DANK Haus till the next year.
X-ALT-DESC;FMTTYPE=text/html:That bar doesn't build itself. German engineering will one day prevail but till then...\n<br>\n<br>It takes over 250 people 3 days to raise about $100k of direct support for German cultural programming and service.\n<br>\n<br>And? It is beyond fun! So fun\, volunteer shifts filled up last year and some people missed out.\n<br>\n<br>Sign up today to secure your place cutting cake\, pouring beer\, and dragging it all back to the DANK Haus till the next year. 
LOCATION:DANK HAUS 4740 N Western
UID:e.697.482
SEQUENCE:3
DTSTAMP:20260421T105048Z
URL:https://www.lincolnsquare.org/events/details/event-at-dank-haus-german-american-cultural-center-482
END:VEVENT

END:VCALENDAR
