BEGIN:VCALENDAR
VERSION:2.0
PRODID:-//ChamberMaster//Event Calendar 2.0//EN
METHOD:PUBLISH
X-PUBLISHED-TTL:P3D
REFRESH-INTERVAL:P3D
CALSCALE:GREGORIAN
BEGIN:VEVENT
DTSTART:20100606T003000Z
DTEND:20100606T043000Z
X-MICROSOFT-CDO-ALLDAYEVENT:FALSE
SUMMARY:Event at DANK Haus German American Cultural Center474
DESCRIPTION:Art Exhibit\n\nFine Arts Committee brings German\, European and American artists to the Scharpenberg Gallery 3-5 times a year. open and free to the public\, Saturdays 11am - 3pm
X-ALT-DESC;FMTTYPE=text/html:Art Exhibit\n<br>Fine Arts Committee brings German\, European and American artists to the Scharpenberg Gallery 3-5 times a year. open and free to the public\, Saturdays 11am - 3pm
LOCATION:DANK HAUS 4740 N Western Scharpenberg Gallery 4th floor CTA Train: 1/2 block off the brown line Western stop Bus: Western bus and Lawrence bus
UID:e.697.483
SEQUENCE:3
DTSTAMP:20260421T105225Z
URL:https://www.lincolnsquare.org/events/details/event-at-dank-haus-german-american-cultural-center-483
END:VEVENT

END:VCALENDAR
