BEGIN:VCALENDAR
VERSION:2.0
PRODID:-//ChamberMaster//Event Calendar 2.0//EN
METHOD:PUBLISH
X-PUBLISHED-TTL:P3D
REFRESH-INTERVAL:P3D
CALSCALE:GREGORIAN
BEGIN:VEVENT
DTSTART:20100609T233000Z
DTEND:20100610T020000Z
X-MICROSOFT-CDO-ALLDAYEVENT:FALSE
SUMMARY:Adult Summer German Classes
DESCRIPTION:Adult Language School\n\nLearn German! Every Wednesday 6:30pm - 9pm. 3rd floor Schule.\n\n	\n\nDate: Wednesday\, June 09\, 2010 At 06:30 PM\n\nDuration: 2 Hours 30 Minutes\n\n\n\n2010 Summer Adult\n\nBeginner section\n\nAdvanced section\n\nRegistration May 19\n\nRegistration Jun 9\n\nFirst class Jun 9\n\nLast Class Aug 11\n\nNo holidays\n\n10 weeks straight through\n\nWed 630-900
X-ALT-DESC;FMTTYPE=text/html:Adult Language School\n<br>Learn German! Every Wednesday 6:30pm - 9pm. 3rd floor Schule.\n<br>	\n<br>Date: Wednesday\, June 09\, 2010 At 06:30 PM\n<br>Duration: 2 Hours 30 Minutes\n<br>\n<br>2010 Summer Adult\n<br>Beginner section\n<br>Advanced section\n<br>Registration May 19\n<br>Registration Jun 9\n<br>First class Jun 9\n<br>Last Class Aug 11\n<br>No holidays\n<br>10 weeks straight through\n<br>Wed 630-900\n<br>\n<br>
LOCATION:DANK HAUS 4740 N Western 3rd floor
UID:e.697.486
SEQUENCE:3
DTSTAMP:20260421T111137Z
URL:https://www.lincolnsquare.org/events/details/event-at-dank-haus-german-american-cultural-center-486
END:VEVENT

END:VCALENDAR
