BEGIN:VCALENDAR
VERSION:2.0
PRODID:-//ChamberMaster//Event Calendar 2.0//EN
METHOD:PUBLISH
X-PUBLISHED-TTL:P3D
REFRESH-INTERVAL:P3D
CALSCALE:GREGORIAN
BEGIN:VEVENT
DTSTART:20110616T200000Z
DTEND:20110617T010000Z
X-MICROSOFT-CDO-ALLDAYEVENT:FALSE
SUMMARY:Event at Granville Picture Framing at LSQ
DESCRIPTION:CAUTION!: ART MAY BRING RANDOM ACTS OF PLEASURE\n\nLearn how to use and enjoy art in your life and Receive coupons for framing.\n\nSPECIAL FRAMED ART SALE...THURSDAY 6/16 ONLY\n\n40% OFF Gallery Art and Frame Combination.
X-ALT-DESC;FMTTYPE=text/html:<strong>CAUTION!: ART MAY BRING RANDOM ACTS OF PLEASURE</strong><br />\nLearn how to use and enjoy art in your life and&nbsp\;Receive coupons for framing.<br />\nSPECIAL FRAMED ART SALE...<u>THURSDAY 6/16 ONLY</u><br />\n40% OFF Gallery Art and Frame Combination.
LOCATION:4757 N Lincoln Ave
UID:e.697.1047
SEQUENCE:3
DTSTAMP:20260420T160234Z
URL:https://www.lincolnsquare.org/events/details/event-at-granville-picture-framing-at-lsq-1047
END:VEVENT

END:VCALENDAR
