BEGIN:VCALENDAR
VERSION:2.0
PRODID:-//ChamberMaster//Event Calendar 2.0//EN
METHOD:PUBLISH
X-PUBLISHED-TTL:P3D
REFRESH-INTERVAL:P3D
CALSCALE:GREGORIAN
BEGIN:VEVENT
DTSTART;VALUE=DATE:20111108
DTEND;VALUE=DATE:20111128
TRANSP:TRANSPARENT
X-MICROSOFT-CDO-ALLDAYEVENT:TRUE
SUMMARY:Event at Granville Picture Framing at LSQ
DESCRIPTION:HOME IS WHERE THE ART IS\n\nA Stylish Collection of Art and Frames\n\nTo Beautify the Home and Warm the Heart\n\n\n\n30% Off Framed Art and\n\n25% Off In-Stock Mouldings\n\nFor Full Custom Framing Orders\n\nSale Ends Nov 27th
X-ALT-DESC;FMTTYPE=text/html:<span style="font-size:24px\;"><span style="color:#b22222\;"><strong>HOME IS WHERE THE <u>ART</u> IS</strong></span></span><br />\n<span style="font-size:18px\;"><strong>A Stylish Collection of Art and Frames<br />\nTo Beautify the Home and Warm the Heart<br />\n<br />\n<span style="color:#ff0000\;">30% Off Framed Art and<br />\n25% Off In-Stock Mouldings<br />\nFor Full Custom Framing Orders<br />\nSale Ends Nov 27th</span></strong></span>
LOCATION:4757 N Lincoln and 6200 N Broadway
UID:e.697.2206
SEQUENCE:3
DTSTAMP:20260420T082627Z
URL:https://www.lincolnsquare.org/events/details/event-at-granville-picture-framing-at-lsq-2206
END:VEVENT

END:VCALENDAR
