BEGIN:VCALENDAR
VERSION:2.0
PRODID:-//ChamberMaster//Event Calendar 2.0//EN
METHOD:PUBLISH
X-PUBLISHED-TTL:P3D
REFRESH-INTERVAL:P3D
CALSCALE:GREGORIAN
BEGIN:VEVENT
DTSTART:20111202T000000Z
DTEND:20111202T020000Z
X-MICROSOFT-CDO-ALLDAYEVENT:FALSE
SUMMARY:Event at Granville Picture Framing at LSQ
DESCRIPTION:STOP! SIP AND SHOP! THURSDAYS\n\n6-8p Enjoy some HOT CIDER and GINGERSNAPS\n\n7:15p GALLERY TALK...\n\n           PHOTO RESTORATION: Or How to Bring Your Relatives Back Alive\n\nAll Week...HOT DEAL!\n\n           FREE Photo Scan with Restoration and Framing Order ( A $15 - $25 value )
X-ALT-DESC;FMTTYPE=text/html:<span style="color:#ff0000\;"><span style="font-size:16px\;"><strong>STOP! SIP AND SHOP! THURSDAYS</strong></span></span><br />\n6-8p Enjoy some<strong> HOT CIDER</strong> and <strong>GINGERSNAPS</strong><br />\n7:15p <strong>GALLERY TALK</strong>...<br />\n<strong>&nbsp\; &nbsp\; &nbsp\; &nbsp\; &nbsp\; &nbsp\;PHOTO RESTORATION: <em>Or How to Bring Your Relatives Back Alive</em></strong><br />\nAll Week...<strong>HOT DEAL!</strong><br />\n&nbsp\; &nbsp\; &nbsp\; &nbsp\; &nbsp\; &nbsp\;FREE Photo Scan with Restoration and Framing Order ( A $15 - $25 value )<br />\n&nbsp\; &nbsp\; &nbsp\; &nbsp\; &nbsp\; &nbsp\; &nbsp\; &nbsp\; &nbsp\; &nbsp\;
LOCATION:4757 N LINCOLN AVE
UID:e.697.2224
SEQUENCE:3
DTSTAMP:20260420T061448Z
URL:https://www.lincolnsquare.org/events/details/event-at-granville-picture-framing-at-lsq-2224
END:VEVENT

END:VCALENDAR
