BEGIN:VCALENDAR
VERSION:2.0
PRODID:-//ChamberMaster//Event Calendar 2.0//EN
METHOD:PUBLISH
X-PUBLISHED-TTL:P3D
REFRESH-INTERVAL:P3D
CALSCALE:GREGORIAN
BEGIN:VEVENT
DTSTART:20111209T000000Z
DTEND:20111209T020000Z
X-MICROSOFT-CDO-ALLDAYEVENT:FALSE
SUMMARY:Event at Granville Picture Framing at LSQ
DESCRIPTION:STOP! SIP AND SHOP! THURSDAY\n\n6-8pm  Enjoy HOT CHOCOLATE and COOKIES\n\n             EVERYONE NEEDS TO CONSERVE\n\n\n\n7:15pm GALLERY TALK\n\n               ART CONSERVATION:\n\n              The Dos and Don'ts of Conserving and Restoring Art\n\n              Guest Speaker\, Mr. Scott Sherwood\, Art Conservation and Consultation\n\n\n\nHOT DEAL! All Week\, Dec 4th - Dec 10th\n\n               FREE ASSESSMENT OF ART\n\n               for Conservation and Framing\n\n                    (Regular $25 consultation fee Value)
X-ALT-DESC;FMTTYPE=text/html:<strong><span style="color:#ff0000\;"><span style="font-size:16px\;">STOP! SIP AND SHOP! THURSDAY</span></span></strong><br />\n<span style="font-size:16px\;">6-8pm &nbsp\;Enjoy HOT CHOCOLATE and COOKIES<br />\n&nbsp\; &nbsp\; &nbsp\; &nbsp\; &nbsp\; &nbsp\; &nbsp\;EVERYONE NEEDS TO CONSERVE<br />\n<br />\n7:15pm GALLERY TALK<br />\n&nbsp\; &nbsp\; &nbsp\; &nbsp\; &nbsp\; &nbsp\; &nbsp\; &nbsp\;ART CONSERVATION:<br />\n<em>&nbsp\; &nbsp\; &nbsp\; &nbsp\; &nbsp\; &nbsp\; &nbsp\; The Dos and Don&#39\;ts of Conserving and Restoring Art<br />\n&nbsp\; &nbsp\; &nbsp\; &nbsp\; &nbsp\; &nbsp\; &nbsp\; <span style="font-size:12px\;">Guest Speaker\,&nbsp\;Mr. Scott Sherwood\, Art Conservation and Consultation</span><br />\n<br />\nHOT DEAL! All Week\, Dec 4th - Dec 10th<br />\n&nbsp\; &nbsp\; &nbsp\; &nbsp\; &nbsp\; &nbsp\; &nbsp\; &nbsp\;FREE ASSESSMENT OF ART<br />\n&nbsp\; &nbsp\; &nbsp\; &nbsp\; &nbsp\; &nbsp\; &nbsp\; &nbsp\;for Conservation and Framing<br />\n<span style="font-size:12px\;">&nbsp\; &nbsp\; &nbsp\; &nbsp\; &nbsp\; &nbsp\; &nbsp\; &nbsp\; &nbsp\; &nbsp\; (Regular $25 consultation fee Value)</span></em></span>
LOCATION:4757 N LINCOLN AVENUE
UID:e.697.2229
SEQUENCE:3
DTSTAMP:20260420T061449Z
URL:https://www.lincolnsquare.org/events/details/event-at-granville-picture-framing-at-lsq-2229
END:VEVENT

END:VCALENDAR
