BEGIN:VCALENDAR
VERSION:2.0
PRODID:-//ChamberMaster//Event Calendar 2.0//EN
METHOD:PUBLISH
X-PUBLISHED-TTL:P3D
REFRESH-INTERVAL:P3D
CALSCALE:GREGORIAN
BEGIN:VEVENT
DTSTART:20111223T000000Z
DTEND:20111223T020000Z
X-MICROSOFT-CDO-ALLDAYEVENT:FALSE
SUMMARY:Event at Granville Picture Framing at LSQ
DESCRIPTION:STOP! SIP AND SHOP! THURSDAY\n\n\n\n6-8pm    Enjoy SPICED WINE and CHEESE N CRACKERS\n\n                WINTER SOLSTICE CELEBRATION!\n\n\n\n7:15pm GALLERY TALK\n\n               ARCHIVAL FRAMING:\n\n               Or Acid Burn and What to do About It\n\n\n\nHOT DEAL! All Week Dec 18th - Dec 23rd\n\n                FREE ARCHIVAL PHOTO ALBUM\n\n                with Custom Framing* or Gallery Art* Purchase\n\n                (* Minimum Purchase of $150 Required)
X-ALT-DESC;FMTTYPE=text/html:<span style="color:#ff0000\;"><strong><span style="font-size:16px\;">STOP! SIP AND SHOP! THURSDAY</span></strong></span><br />\n<br />\n6-8pm &nbsp\; &nbsp\;Enjoy SPICED WINE and CHEESE N CRACKERS<br />\n&nbsp\; &nbsp\; &nbsp\; &nbsp\; &nbsp\; &nbsp\; &nbsp\; &nbsp\; <span style="color:#0000ff\;">WINTER SOLSTICE CELEBRATION!</span><br />\n<br />\n7:15pm GALLERY TALK<br />\n&nbsp\; &nbsp\; &nbsp\; &nbsp\; &nbsp\; &nbsp\; &nbsp\; &nbsp\;ARCHIVAL FRAMING:<br />\n&nbsp\; &nbsp\; &nbsp\; &nbsp\; &nbsp\; &nbsp\; &nbsp\; &nbsp\;<em>Or Acid Burn and What to do About It</em><br />\n<br />\nHOT DEAL! All Week Dec 18th - Dec 23rd<br />\n&nbsp\; &nbsp\; &nbsp\; &nbsp\; &nbsp\; &nbsp\; &nbsp\; &nbsp\; FREE ARCHIVAL PHOTO ALBUM<br />\n&nbsp\; &nbsp\; &nbsp\; &nbsp\; &nbsp\; &nbsp\; &nbsp\; &nbsp\; with Custom Framing* or Gallery Art* Purchase<br />\n&nbsp\; &nbsp\; &nbsp\; &nbsp\; &nbsp\; &nbsp\; &nbsp\; &nbsp\; (* Minimum Purchase of $150 Required)
LOCATION:4757 N LINCOLN AVENUE
UID:e.697.2232
SEQUENCE:3
DTSTAMP:20260420T061451Z
URL:https://www.lincolnsquare.org/events/details/event-at-granville-picture-framing-at-lsq-2232
END:VEVENT

END:VCALENDAR
