BEGIN:VCALENDAR
VERSION:2.0
PRODID:-//ChamberMaster//Event Calendar 2.0//EN
METHOD:PUBLISH
X-PUBLISHED-TTL:P3D
REFRESH-INTERVAL:P3D
CALSCALE:GREGORIAN
BEGIN:VEVENT
DTSTART;VALUE=DATE:20120501
DTEND;VALUE=DATE:20120531
TRANSP:TRANSPARENT
X-MICROSOFT-CDO-ALLDAYEVENT:TRUE
SUMMARY:May is for Memories at Granville Picture Framing at LSQ
DESCRIPTION:MAY IS FOR MEMORIES\n\n\n\nRESTORE & SAVE SPECIAL\n\n25% OFF MEMORIES PACKAGE*\n\n[*Encludes Photo Restoration + 1Print + Custom Framing]\n\n\n\nMay 1 to May 30th
X-ALT-DESC;FMTTYPE=text/html:<span style="font-size:18px\;">MAY IS FOR MEMORIES</span><br />\n<br />\n<strong><span style="font-size:24px\;">RESTORE &amp\; SAVE SPECIAL</span><br />\n<span style="font-size:20px\;">25% OFF&nbsp\;<u>MEMORIES PACKAGE*</u></span></strong><br />\n<strong>[*Encludes Photo Restoration + 1Print + Custom Framing]</strong><br />\n<br />\n<span style="font-size:24px\;">May 1 to May 30th</span>
LOCATION:4757 N Lincoln Ave and 6200 N Broadway
UID:e.697.2569
SEQUENCE:3
DTSTAMP:20260419T222032Z
URL:https://www.lincolnsquare.org/events/details/event-at-granville-picture-framing-at-lsq-2569
END:VEVENT

END:VCALENDAR
