BEGIN:VCALENDAR
VERSION:2.0
PRODID:-//ChamberMaster//Event Calendar 2.0//EN
METHOD:PUBLISH
X-PUBLISHED-TTL:P3D
REFRESH-INTERVAL:P3D
CALSCALE:GREGORIAN
BEGIN:VEVENT
DTSTART;VALUE=DATE:20110407
DTEND;VALUE=DATE:20110411
TRANSP:TRANSPARENT
X-MICROSOFT-CDO-ALLDAYEVENT:TRUE
SUMMARY:Event at Granville Picture Framing at LSQ
DESCRIPTION:Special Gallery Show During Lincoln Sq Wine Stroll...\n\nJohn Cooper\, Lincoln Square artist\n\noil paintings\, landscapes and prints
X-ALT-DESC;FMTTYPE=text/html:Special Gallery Show During Lincoln Sq Wine Stroll...\n<br>John Cooper\, Lincoln Square artist\n<br>oil paintings\, landscapes and prints
LOCATION:Granville Picture Framing at LSQ 4757 N Lincoln Ave
UID:e.697.847
SEQUENCE:3
DTSTAMP:20260420T193949Z
URL:https://www.lincolnsquare.org/events/details/event-at-granville-picture-framing-at-lsq-847
END:VEVENT

END:VCALENDAR
