BEGIN:VCALENDAR
VERSION:2.0
PRODID:-//ChamberMaster//Event Calendar 2.0//EN
METHOD:PUBLISH
X-PUBLISHED-TTL:P3D
REFRESH-INTERVAL:P3D
CALSCALE:GREGORIAN
BEGIN:VEVENT
DTSTART;VALUE=DATE:20111202
DTEND;VALUE=DATE:20111205
TRANSP:TRANSPARENT
X-MICROSOFT-CDO-ALLDAYEVENT:TRUE
SUMMARY:Christkindl Market Specials at Huettenbar
DESCRIPTION:Enjoy Christkindl Market with us at the Huettenbar!\n\n\n\n$6 Christkindles Gluhwein!\n\n$6 Jagertee!\n\nAnchor Steam Christmas Ale on tap!
X-ALT-DESC;FMTTYPE=text/html:Enjoy Christkindl Market with us at the Huettenbar!<br />\n<br />\n$6 Christkindles Gluhwein!<br />\n$6 Jagertee!<br />\nAnchor Steam Christmas Ale on tap!
LOCATION:
UID:e.697.2225
SEQUENCE:3
DTSTAMP:20260420T061248Z
URL:https://www.lincolnsquare.org/events/details/event-at-huettenbar-2225
END:VEVENT

END:VCALENDAR
