BEGIN:VCALENDAR
VERSION:2.0
PRODID:-//ChamberMaster//Event Calendar 2.0//EN
METHOD:PUBLISH
X-PUBLISHED-TTL:P3D
REFRESH-INTERVAL:P3D
CALSCALE:GREGORIAN
BEGIN:VEVENT
DTSTART:20110319T140000Z
DTEND:20110320T220000Z
X-MICROSOFT-CDO-ALLDAYEVENT:FALSE
SUMMARY:Event at Liberty Tax Service
DESCRIPTION:Fundraiser for Japan\n\nLiberty is helping to raise funds for the disaster victims in Japan. Come to Liberty Tax and donate a minimum of $50 to the relief fund for the people affected by the earthquake and tsunami. As a thank you for your generous contribution\, Liberty will prepare your taxes for free.\n\nFor new customers. Valid at participating locations. Cannot be combined with other offers or used toward past service. One offer per return. Not valid for bank products. Individual returns only. Valid 3/19/2011-3/20/2011.
X-ALT-DESC;FMTTYPE=text/html:<strong>Fundraiser for Japan</strong><br />\nLiberty is helping to raise funds for the disaster victims in Japan. Come to Liberty Tax and donate a minimum of $50 to the relief fund for the people affected by the earthquake and tsunami. As a thank you for your generous contribution\, Liberty will prepare your taxes for free.<br />\nFor new customers. Valid at participating locations. Cannot be combined with other offers or used toward past service. One offer per return. Not valid for bank products. Individual returns only. Valid 3/19/2011-3/20/2011.
LOCATION:Liberty Tax Service 2342 W. Lawrence Ave. Lawrence & Western 773-541-2026
UID:e.697.787
SEQUENCE:3
DTSTAMP:20260420T222106Z
URL:https://www.lincolnsquare.org/events/details/event-at-liberty-tax-service-787
END:VEVENT

END:VCALENDAR
