BEGIN:VCALENDAR
VERSION:2.0
PRODID:-//ChamberMaster//Event Calendar 2.0//EN
METHOD:PUBLISH
X-PUBLISHED-TTL:P3D
REFRESH-INTERVAL:P3D
CALSCALE:GREGORIAN
BEGIN:VEVENT
DTSTART;VALUE=DATE:20100505
DTEND;VALUE=DATE:20100506
TRANSP:TRANSPARENT
X-MICROSOFT-CDO-ALLDAYEVENT:TRUE
SUMMARY:Event at McPherson Elementary School
DESCRIPTION:Registration for Headstart. McPherson has 3 head start classrooms and we will be having registration for the entire month of May and June.
X-ALT-DESC;FMTTYPE=text/html:Registration for Headstart. McPherson has 3 head start classrooms and we will be having registration for the entire month of May and June.
LOCATION:McPherson Elementary School 4728 N. Wolcott
UID:e.697.509
SEQUENCE:3
DTSTAMP:20260421T123355Z
URL:https://www.lincolnsquare.org/events/details/event-at-mcpherson-elementary-school-509
END:VEVENT

END:VCALENDAR
