BEGIN:VCALENDAR
VERSION:2.0
PRODID:-//ChamberMaster//Event Calendar 2.0//EN
METHOD:PUBLISH
X-PUBLISHED-TTL:P3D
REFRESH-INTERVAL:P3D
CALSCALE:GREGORIAN
BEGIN:VEVENT
DTSTART:20100612T140000Z
DTEND:20100612T190000Z
X-MICROSOFT-CDO-ALLDAYEVENT:FALSE
SUMMARY:Event at McPherson Elementary School
DESCRIPTION:Rummage Sale
X-ALT-DESC;FMTTYPE=text/html:Rummage Sale
LOCATION:McPherson Elementary School 4728 N. Wolcott Chicago\, Illinois 60640
UID:e.697.550
SEQUENCE:3
DTSTAMP:20260421T104503Z
URL:https://www.lincolnsquare.org/events/details/event-at-mcpherson-elementary-school-550
END:VEVENT

END:VCALENDAR
