BEGIN:VCALENDAR
VERSION:2.0
PRODID:-//ChamberMaster//Event Calendar 2.0//EN
METHOD:PUBLISH
X-PUBLISHED-TTL:P3D
REFRESH-INTERVAL:P3D
CALSCALE:GREGORIAN
BEGIN:VEVENT
DTSTART;VALUE=DATE:20110415
DTEND;VALUE=DATE:20110416
TRANSP:TRANSPARENT
X-MICROSOFT-CDO-ALLDAYEVENT:TRUE
SUMMARY:Event at Pizza D.O.C
DESCRIPTION:Friday Fish Fry ... $12.99
X-ALT-DESC;FMTTYPE=text/html:Friday Fish Fry ... $12.99\n<br>
LOCATION:Pizza DOC
UID:e.697.779
SEQUENCE:3
DTSTAMP:20260420T193655Z
URL:https://www.lincolnsquare.org/events/details/event-at-pizza-d-o-c-779
END:VEVENT

END:VCALENDAR
