BEGIN:VCALENDAR
VERSION:2.0
PRODID:-//ChamberMaster//Event Calendar 2.0//EN
METHOD:PUBLISH
X-PUBLISHED-TTL:P3D
REFRESH-INTERVAL:P3D
CALSCALE:GREGORIAN
BEGIN:VEVENT
DTSTART:20120128T200000Z
DTEND:20120128T210000Z
X-MICROSOFT-CDO-ALLDAYEVENT:FALSE
SUMMARY:Achieving Your New Year's Resolution for Weight Loss
DESCRIPTION:***\n\nAchieving Your New Year's Resolution for Weight Loss Chicago Presentation by Dr. Todd C Renn\, DC and Tracie Hinton-Chavez Lac.\n\n\n\nJoin Us Saturday January 28th at 2:00PM for Our Free Presentation on Weight Loss\n\n\n\nRavenswood Chiropractic & Wellness Center\n\n5215 N Ravenswood\, Suite 105\n\nChicago\, IL 60640\n\n\n\nIt's that time again! Weight loss is at the top of the list for New Year's resolutions and we're here to help. Due to overwhelming requests for help on natural weight loss programs\, medical weight loss and acupuncture for weight loss we have decided to put together a comprehensive presentation for all to attend and enjoy. This presentation will provide you with the latest information from both Eastern and Western approaches and the tools you need to achieve your resolution and lose weight safely and effectively. Following the presentation\, the clinicians will be available to help you set your own personalized weight loss goals! This presentation is provided to the public FREE of charge and seating is limited. Please reserve your seats before January 27th by visiting the events sections of our website www.RennWellness.com or by calling us at 773.878.7330.
X-ALT-DESC;FMTTYPE=text/html:***<br />\nAchieving Your New Year&rsquo\;s Resolution for Weight Loss Chicago Presentation by Dr. Todd C Renn\, DC and Tracie Hinton-Chavez Lac.<br />\n<br />\nJoin Us Saturday January 28th at 2:00PM for Our Free Presentation on Weight Loss<br />\n<br />\nRavenswood Chiropractic &amp\; Wellness Center<br />\n5215 N Ravenswood\, Suite 105<br />\nChicago\, IL 60640<br />\n<br />\nIt&rsquo\;s that time again! Weight loss is at the top of the list for New Year&rsquo\;s resolutions and we&rsquo\;re here to help. Due to overwhelming requests for help on natural weight loss programs\, medical weight loss and acupuncture for weight loss we have decided to put together a comprehensive presentation for all to attend and enjoy. This presentation will provide you with the latest information from both Eastern and Western approaches and the tools you need to achieve your resolution and lose weight safely and effectively. Following the presentation\, the clinicians will be available to help you set your own personalized weight loss goals! This presentation is provided to the public FREE of charge and seating is limited. Please reserve your seats before January 27th by visiting the events sections of our website www.RennWellness.com or by calling us at 773.878.7330.<br />\n
LOCATION:Ravenswood Chiropractic & Wellness Center 5215 N Ravenswood\, Suite 105 Chicago\, IL 60640
UID:e.697.2450
SEQUENCE:3
DTSTAMP:20260420T050058Z
URL:https://www.lincolnsquare.org/events/details/event-at-ravenswood-chiropractic-wellness-center-2450
END:VEVENT

END:VCALENDAR
