BEGIN:VCALENDAR
VERSION:2.0
PRODID:-//ChamberMaster//Event Calendar 2.0//EN
METHOD:PUBLISH
X-PUBLISHED-TTL:P3D
REFRESH-INTERVAL:P3D
CALSCALE:GREGORIAN
BEGIN:VEVENT
DTSTART:20100821T190000Z
DTEND:20100821T220000Z
X-MICROSOFT-CDO-ALLDAYEVENT:FALSE
SUMMARY:Event at Ravenswood Chiropractic & Wellness Center
DESCRIPTION:Ravenswood Chiropractic & Wellness Center warmly invites you to attend our\n\n\n\nACUPUNCTURE OPEN HOUSE\n\n\n\nWith Tracie Hinton-Chavez Lac.\n\n\n\nAre you curious about acupuncture? \n\nDo you want to know how acupuncture works? \n\nAre you interested in acupuncture for the treatment of a condition? \n\nDo you want to learn about Traditional Chinese Medicine? \n\nPerhaps you want to sample an Auricular Acupuncture Session or watch one? \n\nIf you answered yes to any of these questions\, please join us for a fun evening of answers and discovery.
X-ALT-DESC;FMTTYPE=text/html:<br>Ravenswood Chiropractic & Wellness Center warmly invites you to attend our\n<br>\n<br>ACUPUNCTURE OPEN HOUSE\n<br>\n<br>With Tracie Hinton-Chavez Lac.\n<br>\n<br>Are you curious about acupuncture? \n<br>Do you want to know how acupuncture works? \n<br>Are you interested in acupuncture for the treatment of a condition? \n<br>Do you want to learn about Traditional Chinese Medicine? \n<br>Perhaps you want to sample an Auricular Acupuncture Session or watch one? \n<br>If you answered yes to any of these questions\, please join us for a fun evening of answers and discovery.\n<br>\n<br>
LOCATION:Ravenswood Chiropractic and Wellness Center 5215 N Ravenswood\, Suite 105 Chicago IL 60640
UID:e.697.610
SEQUENCE:3
DTSTAMP:20260421T082902Z
URL:https://www.lincolnsquare.org/events/details/event-at-ravenswood-chiropractic-wellness-center-610
END:VEVENT

END:VCALENDAR
