BEGIN:VCALENDAR
VERSION:2.0
PRODID:-//ChamberMaster//Event Calendar 2.0//EN
METHOD:PUBLISH
X-PUBLISHED-TTL:P3D
REFRESH-INTERVAL:P3D
CALSCALE:GREGORIAN
BEGIN:VEVENT
DTSTART;VALUE=DATE:20101120
DTEND;VALUE=DATE:20110113
TRANSP:TRANSPARENT
X-MICROSOFT-CDO-ALLDAYEVENT:TRUE
SUMMARY:Event at Susan Ryan Photography
DESCRIPTION:For the holidays\, 1/2 off studio portrait session!
X-ALT-DESC;FMTTYPE=text/html:For the holidays\, 1/2 off studio portrait session!
LOCATION:Susan Ryan Photography Lincoln Square home studio
UID:e.697.671
SEQUENCE:3
DTSTAMP:20260421T001004Z
URL:https://www.lincolnsquare.org/events/details/event-at-susan-ryan-photography-671
END:VEVENT

END:VCALENDAR
