BEGIN:VCALENDAR
VERSION:2.0
PRODID:-//ChamberMaster//Event Calendar 2.0//EN
METHOD:PUBLISH
X-PUBLISHED-TTL:P3D
REFRESH-INTERVAL:P3D
CALSCALE:GREGORIAN
BEGIN:VEVENT
DTSTART:20101112T010000Z
DTEND:20101112T030000Z
X-MICROSOFT-CDO-ALLDAYEVENT:FALSE
SUMMARY:Limoncello Class!
DESCRIPTION:Limoncello Class! \n\nBe taught and educated on the region of Puglia\, Italy while learning of the Italian liqour limoncello! Teaching the class is a native of Bari\, Italy. . .the famous Miss Carmela!
X-ALT-DESC;FMTTYPE=text/html:Limoncello Class! \n<br>Be taught and educated on the region of Puglia\, Italy while learning of the Italian liqour limoncello! Teaching the class is a native of Bari\, Italy. . .the famous Miss Carmela! 
LOCATION:4767 N Lincoln Ave
UID:e.697.668
SEQUENCE:3
DTSTAMP:20260421T032113Z
URL:https://www.lincolnsquare.org/events/details/event-at-trattoria-trullo-668
END:VEVENT

END:VCALENDAR
