BEGIN:VCALENDAR
VERSION:2.0
PRODID:-//ChamberMaster//Event Calendar 2.0//EN
METHOD:PUBLISH
X-PUBLISHED-TTL:P3D
REFRESH-INTERVAL:P3D
CALSCALE:GREGORIAN
BEGIN:VEVENT
DTSTART;VALUE=DATE:20101231
DTEND;VALUE=DATE:20110101
TRANSP:TRANSPARENT
X-MICROSOFT-CDO-ALLDAYEVENT:TRUE
SUMMARY:'New Year's Eve'
DESCRIPTION:
X-ALT-DESC;FMTTYPE=text/html:
LOCATION:DANK-Haus
UID:e.697.659
SEQUENCE:3
DTSTAMP:20260421T014211Z
URL:https://www.lincolnsquare.org/events/details/event-new-year-s-eve-659
END:VEVENT

END:VCALENDAR
