BEGIN:VCALENDAR
VERSION:2.0
PRODID:-//ChamberMaster//Event Calendar 2.0//EN
METHOD:PUBLISH
X-PUBLISHED-TTL:P3D
REFRESH-INTERVAL:P3D
CALSCALE:GREGORIAN
BEGIN:VEVENT
DTSTART:20110924T140000Z
DTEND:20110924T150000Z
X-MICROSOFT-CDO-ALLDAYEVENT:FALSE
SUMMARY:Fall Harvest Pooch Costume Contest
DESCRIPTION:Fall Harvest Pooch Costume Contest\n\nSponsored by Urban Pooch Canine Life Center\n\n \n\nAn amazingly fun opportunity to parade your special pooch in front of our special panel of judges in hope of winning great prizes and bragging rights to The Lincoln Square Pooch Hall of Fame.\n\n\n\nOwners are also encouraged to participate!\n\n\n\nFirst and Second Place Prizes will be awarded in the following categories\, also one Grand Prize:\n\n	\n		Apple Fest King/Queen\n	\n		Most Adorable\n	\n		Most Creative\n	\n		Most Unusual\n	\n		Most Original\n	\n		Best Dog/Owner Look-Alike\n\n\n	 \n\n	NOTE: Children and crowds of people will be present during this event\; it is mandatory that your pooch be on a leash and well behaved. Please use discretion at all times so the event is as much fun as possible without any incidents.\n\n	\n\n	Pre-registration is required\, no cost to the owner\n\n	 \n\n\n	\n\n	HOW TO REGISTER\n\n	\n		Click the 'Register Online' button at the top of the event page.\n	\n		Click the link to register for the event as a non-member of the Chamber of Commerce.\n	\n		Enter your name and e-mail address in the appropriate fields.\n	\n		Enter your dogs name\, breed\, and name of costume in the comments box.\n	\n		Follow the prompts until you can click finish  (There is no charge to participate).
X-ALT-DESC;FMTTYPE=text/html:<br />\n<span style="font-size: 18px"><span style="font-family: times new roman"><strong>Fall Harvest Pooch Costume Contest</strong></span></span><br />\n<em><span style="font-size: 16px"><span style="font-family: times new roman">Sponsored by Urban Pooch Canine Life Center</span></span></em><br />\n&nbsp\;<br />\n<span style="font-size: medium"><span style="font-family: times new roman">An amazingly fun opportunity to parade your special pooch in front of our special panel of judges in hope of winning great prizes and bragging rights to The Lincoln Square Pooch Hall of Fame.</span></span><br />\n<br />\n<span style="font-size: medium"><span style="font-family: times new roman">Owners are also encouraged to participate!</span></span><br />\n<br />\n<span style="font-size: medium"><span style="font-family: times new roman">First and Second Place Prizes will be awarded in the following categories\, also one Grand Prize:</span></span>\n<ul>\n	<li>\n		<span style="font-size: medium"><span style="font-family: times new roman">Apple Fest King/Queen</span></span></li>\n	<li>\n		<span style="font-size: medium"><span style="font-family: times new roman">Most Adorable</span></span></li>\n	<li>\n		<span style="font-size: medium"><span style="font-family: times new roman">Most Creative</span></span></li>\n	<li>\n		<span style="font-size: medium"><span style="font-family: times new roman">Most Unusual</span></span></li>\n	<li>\n		<span style="font-size: medium"><span style="font-family: times new roman">Most Original</span></span></li>\n	<li>\n		<span style="font-size: medium"><span style="font-family: times new roman">Best Dog/Owner Look-Alike</span></span></li>\n</ul>\n<p>\n	&nbsp\;</p>\n<p>\n	<em><span style="font-size: medium"><span style="font-family: times new roman">NOTE: Children and crowds of people will be present during this event\; it is mandatory that your pooch be on a leash and well behaved. Please use discretion at all times so the event is as much fun as possible without any incidents.</span></span></em><br />\n	<br />\n	<span style="font-size: 12pt"><span style="font-family: times new roman\, serif">Pre-registration is required\, no cost to the owner</span></span><br />\n	&nbsp\;</p>\n<hr />\n<p>\n	<br />\n	<span style="color: #0000ff"><strong>HOW TO REGISTER</strong></span></p>\n<ol>\n	<li>\n		<span style="color: #0000ff">Click the &#39\;Register Online&#39\; button at the top of the event page.</span></li>\n	<li>\n		<span style="color: #0000ff">Click the link to register for the event as a non-member of the Chamber of Commerce.</span></li>\n	<li>\n		<span style="color: #0000ff">Enter your name and e-mail address in the appropriate fields.</span></li>\n	<li>\n		<span style="color: #0000ff">Enter your dogs name\, breed\, and name of costume in the comments box.</span></li>\n	<li>\n		<span style="color: #0000ff">Follow the prompts until you can click finish&nbsp\; (There is no charge to participate).</span></li>\n</ol>\n<p>\n	&nbsp\;</p>\n<br />\n<hr />\n
LOCATION:APPLE FEST 4700 block of N. Lincoln Avenue (Contest located at the Kids Zone Stage near Lawrence Avenue)
UID:e.697.1887
SEQUENCE:3
DTSTAMP:20260420T112258Z
URL:https://www.lincolnsquare.org/events/details/fall-harvest-pooch-costume-contest-1887
END:VEVENT

END:VCALENDAR
