BEGIN:VCALENDAR
VERSION:2.0
PRODID:-//ChamberMaster//Event Calendar 2.0//EN
METHOD:PUBLISH
X-PUBLISHED-TTL:P3D
REFRESH-INTERVAL:P3D
CALSCALE:GREGORIAN
BEGIN:VEVENT
DTSTART:20120825T170000Z
DTEND:20120825T210000Z
X-MICROSOFT-CDO-ALLDAYEVENT:FALSE
SUMMARY:Fall Open House: Complimentary Art Workshops
DESCRIPTION:Spend the entire Saturday at Lillstreet exploring all 3 levels\, 24 classrooms\, an\n\nartisan gift shop\, and gallery!\n\nExperiment in all departments with our free workshops and demonstrations for any age.\n\nBring along the little ones in your life as there will be plenty of kid's activities from 12-4pm.\n\nExplore 13 different FREE workshops\, including: screenprinting on fabric and paper\, the\n\nart of hand-blowing glass\, the ins and outs of using a DSLR camera\, throwing big and\n\nsmall on the wheel\, jewelry manufacturing and enameling\, tile making\, flipbook animation\n\nand more!\n\n\n\nBefore you leave\, be sure to browse our Perfect Plate exhibition and artisan gift shop for\n\nhandcrafted works of art you won't find anywhere else.\n\n\n\nWORKSHOP SCHEDULE\n\n\n\n12-1 pm Screenprinting on paper\n\n12-1 pm The Color of Pastels\n\n12-1:30 pm Enameling\n\n12:30-2:30 pm Glass Beadmaking\n\n1-2 pm Intro to Digital SLR Camera\n\n2-3 pm Screenprinted Hankies\n\n2-3 pm Band Rings\n\n2-3 pm Flipbook Animation\n\n2-4 pm 3-D Tiles\n\n2-4 pm Wheel-Throwing\n\n2-4 pm Throwing Big\n\n3-4 pm Glass Fusing\n\n3-4 pm Lightroom
X-ALT-DESC;FMTTYPE=text/html:Spend the entire Saturday at Lillstreet exploring all 3 levels\, 24 classrooms\, an<br />\nartisan gift shop\, and gallery!<br />\nExperiment in all departments with our free workshops and demonstrations for any age.<br />\nBring along the little ones in your life as there will be plenty of kid&#39\;s activities from 12-4pm.<br />\nExplore 13 different FREE workshops\, including: screenprinting on fabric and paper\, the<br />\nart of hand-blowing glass\, the ins and outs of using a DSLR camera\, throwing big and<br />\nsmall on the wheel\, jewelry manufacturing and enameling\, tile making\, flipbook animation<br />\nand more!<br />\n<br />\nBefore you leave\, be sure to browse our Perfect Plate exhibition and artisan gift shop for<br />\nhandcrafted works of art you won&#39\;t find anywhere else.<br />\n<br />\nWORKSHOP SCHEDULE<br />\n<br />\n12-1 pm Screenprinting on paper<br />\n12-1 pm The Color of Pastels<br />\n12-1:30 pm Enameling<br />\n12:30-2:30 pm Glass Beadmaking<br />\n1-2 pm Intro to Digital SLR Camera<br />\n2-3 pm Screenprinted Hankies<br />\n2-3 pm Band Rings<br />\n2-3 pm Flipbook Animation<br />\n2-4 pm 3-D Tiles<br />\n2-4 pm Wheel-Throwing<br />\n2-4 pm Throwing Big<br />\n3-4 pm Glass Fusing<br />\n3-4 pm Lightroom<br />\n
LOCATION:Lillstreet Art Center 4401 N Ravenswood Chicago 60640
UID:e.697.3614
SEQUENCE:3
DTSTAMP:20260420T170540Z
URL:https://www.lincolnsquare.org/events/details/fall-open-house-complimentary-art-workshops-3614
END:VEVENT

END:VCALENDAR
