BEGIN:VCALENDAR
VERSION:2.0
PRODID:-//ChamberMaster//Event Calendar 2.0//EN
METHOD:PUBLISH
X-PUBLISHED-TTL:P3D
REFRESH-INTERVAL:P3D
CALSCALE:GREGORIAN
BEGIN:VEVENT
DTSTART:20110723T150000Z
DTEND:20110723T180000Z
X-MICROSOFT-CDO-ALLDAYEVENT:FALSE
SUMMARY:Family Bike Safety Event
DESCRIPTION:Family Bike Safety Event\n\n	Sponsored by the City of Chicago Department of Transportation\, CAPS\, & City Clerk's Office\n\n	\n\n	Bring or ride your bike to the library parking lot. Listen to a story\, learn safety tips\, ask questions\, and challenge yourself on an obstacle course with Chicago's bike safety and education specialists: The Bicycling Ambassadors! There will also be free fittings (bring your own helmet)\, bike maps\, games\, and prizes. Surprise special guests: The Chicago Police Bicycle Officers hope to have the opportunity to ride by to show their bicycles and talk more about safety and fun on the bike.\n\n	\n\n	Don't forget to check on your child's safety and protection with the Kids I.D. Program (car seats\, fingerprinting\, & photo)\, from the City Clerk's Office.
X-ALT-DESC;FMTTYPE=text/html:<br />\n<p align="left">\n	<span style="font-size: 18px"><b><font face="Helvetica-Bold"><font face="Helvetica-Bold">Family Bike Safety Event</font></font></b></span><br />\n	<span style="font-size: 12px"><font face="Helvetica-Bold"><font face="Helvetica-Bold"><em><strong>Sponsored by the City of Chicago Department of Transportation\, CAPS\, &amp\; City Clerk&#39\;s Office</strong></em><br />\n	<br />\n	Bring or ride your bike to the library parking lot. Listen to a story\, learn safety tips\, ask questions\, and challenge yourself on an obstacle course with Chicago&rsquo\;s bike safety and education specialists: The </font></font><i><font face="Helvetica-BoldOblique"><font face="Helvetica-BoldOblique">Bicycling Ambassadors! </font></font></i><font face="Helvetica-Bold"><font face="Helvetica-Bold">There will also be free fittings (bring your own helmet)\, bike maps\, games\, and prizes. Surprise special guests: The Chicago Police Bicycle Officers hope to have the opportunity to ride by to show their bicycles and talk more about safety and fun on the bike.</font></font></span><br />\n	<br />\n	<span style="font-size: 12px"><font face="Helvetica-Bold"><font face="Helvetica-Bold">Don&rsquo\;t forget to check on your child&rsquo\;s safety and protection with the </font></font><i><font face="Helvetica-BoldOblique"><font face="Helvetica-BoldOblique">Kids I.D. Program </font></font></i><font face="Helvetica-Bold"><font face="Helvetica-Bold">(car seats\, fingerprinting\, &amp\; photo)\, from the </font></font><i><font face="Helvetica-BoldOblique"><font face="Helvetica-BoldOblique">City Clerk&rsquo\;s Office</font></font></i><font face="Helvetica-Bold"><font face="Helvetica-Bold">.</font></font></span></p>\n
LOCATION:Chicago Public Library Lincoln Belmont Branch 1659 W. Melrose Street
UID:e.697.1066
SEQUENCE:3
DTSTAMP:20260420T141745Z
URL:https://www.lincolnsquare.org/events/details/family-bike-safety-event-1066
END:VEVENT

END:VCALENDAR
