BEGIN:VCALENDAR
VERSION:2.0
PRODID:-//ChamberMaster//Event Calendar 2.0//EN
METHOD:PUBLISH
X-PUBLISHED-TTL:P3D
REFRESH-INTERVAL:P3D
CALSCALE:GREGORIAN
BEGIN:VEVENT
DTSTART:20110307T220000Z
DTEND:20110308T010000Z
X-MICROSOFT-CDO-ALLDAYEVENT:FALSE
SUMMARY:Family Game Night! at Marbles: The Brain Store
DESCRIPTION:Looking for fun things to do on a Monday night? Kids driving you crazy? Do Game Nights at home not work out as you hoped? \n\n\n\nStop by Marbles: The Brain Store on the first Monday of every month for a night of fun\, educational\, and brain-boosting games and activites for the whole family to enjoy. Bring your friends\, parents\, and even grandparents! Brain-Boosting snacks will be provided! Play your way to a healthier brain!
X-ALT-DESC;FMTTYPE=text/html:Looking for fun things to do on a Monday night? Kids driving you crazy? Do Game Nights at home not work out as you hoped? \n<br>\n<br>Stop by Marbles: The Brain Store on the first Monday of every month for a night of fun\, educational\, and brain-boosting games and activites for the whole family to enjoy. Bring your friends\, parents\, and even grandparents! Brain-Boosting snacks will be provided! Play your way to a healthier brain!
LOCATION:Marbles: The Brain Store 4745 N. Lincoln Ave Chicago\, IL 60625
UID:e.697.764
SEQUENCE:3
DTSTAMP:20260420T221645Z
URL:https://www.lincolnsquare.org/events/details/family-game-night-at-marbles-the-brain-store-764
END:VEVENT

END:VCALENDAR
