BEGIN:VCALENDAR
VERSION:2.0
PRODID:-//ChamberMaster//Event Calendar 2.0//EN
METHOD:PUBLISH
X-PUBLISHED-TTL:P3D
REFRESH-INTERVAL:P3D
CALSCALE:GREGORIAN
BEGIN:VEVENT
DTSTART:20120825T170000Z
DTEND:20120825T190000Z
X-MICROSOFT-CDO-ALLDAYEVENT:FALSE
SUMMARY:Family Wellness Days at Ravenswood Health Center
DESCRIPTION:Don't send your child off to school this fall without having their backpack and posture checked at Ravenswood Health Center.  Backpacks too heavy for your child's spine can cause lifelong damage.  Bring your child and their full packpack to Ravenswood Health Center on August 25th from 12-2pm for complimentary backpack and posture checks.  Staff will be on hand to properly fit your child's backpack\, demonstrate healthy lunch packing choices\, and provide a complimentary scan of your child's spine.
X-ALT-DESC;FMTTYPE=text/html:<p style="text-align: center">\n	<span style="font-size: 14px">Don&#39\;t send your child off to school this fall without having their backpack and posture checked at Ravenswood Health Center.&nbsp\; Backpacks too heavy for your child&#39\;s spine can cause lifelong damage.&nbsp\; Bring your child and their full packpack to Ravenswood Health Center on August 25th from 12-2pm for complimentary backpack and posture checks.&nbsp\; <span style="background-color: #ffff00">Staff will be on hand to properly fit your child&#39\;s backpack\, demonstrate healthy lunch packing choices\, and provide a complimentary scan of your child&#39\;s spine.&nbsp\; </span></span></p>\n
LOCATION:Ravenswood Health Center
UID:e.697.3625
SEQUENCE:3
DTSTAMP:20260420T171435Z
URL:https://www.lincolnsquare.org/events/details/family-wellness-days-at-ravenswood-health-center-3625
END:VEVENT

END:VCALENDAR
