BEGIN:VCALENDAR
VERSION:2.0
PRODID:-//ChamberMaster//Event Calendar 2.0//EN
METHOD:PUBLISH
X-PUBLISHED-TTL:P3D
REFRESH-INTERVAL:P3D
CALSCALE:GREGORIAN
BEGIN:VEVENT
DTSTART:20120818T210000Z
DTEND:20120819T010000Z
X-MICROSOFT-CDO-ALLDAYEVENT:FALSE
SUMMARY:Famous Fido Rescue Meet & Greet Neighborhood Party
DESCRIPTION:Come say hi and mingle with the Famous Fido staff and adoptable dogs on Saturday evening\, August 18th.  There will be free h'orderves and margaritas and wine for a small donation.  Learn about the work that we do and get involved.  We need your support to give these animals a second chance.  We are more than just a rescue.  Get to know us!\n\n	\n\n	When:  Saturday\, Aufust 18th\n\n	Where: Famous Fido Rescue Parking Lot\n\n	Time: 4pm - 8pm\n\n	Cost: FREE!\n\n	\n\n	For further information regarding this press release\, please contact\n\n	Gloria Lissner at 773.907.0305 or email her at\n\n	Fido@famousfidorescue.com\n\n	\n\n	Famous Fido Rescue is located at:\n\n	5430 N. Clark Street\, Chicago IL 60640 in Andersonville
X-ALT-DESC;FMTTYPE=text/html:<p style="text-align: center\;">\n	<br />\n	Come say hi and mingle with the Famous Fido staff and adoptable dogs on Saturday evening\, August 18th.&nbsp\; There will be free h&#39\;orderves and margaritas and wine for a small donation.&nbsp\; Learn about the work that we do and get involved.&nbsp\; We need your support to give these animals a second chance.&nbsp\; We are more than just a rescue.&nbsp\; Get to know us!<br />\n	<br />\n	<strong>When:&nbsp\; Saturday\, Aufust 18th<br />\n	Where: Famous Fido Rescue Parking Lot<br />\n	Time: 4pm - 8pm<br />\n	Cost: FREE!</strong><br />\n	<br />\n	For further information regarding this press release\, please contact<br />\n	Gloria Lissner at 773.907.0305 or email her at<br />\n	Fido@famousfidorescue.com<br />\n	<br />\n	Famous Fido Rescue is located at:<br />\n	<strong>5430 N. Clark Street\, Chicago IL 60640 in Andersonville</strong></p>\n
LOCATION:5430 N. Clark Street Chicago IL 60640
UID:e.697.3609
SEQUENCE:3
DTSTAMP:20260420T171338Z
URL:https://www.lincolnsquare.org/events/details/famous-fido-rescue-meet-greet-neighborhood-party-3609
END:VEVENT

END:VCALENDAR
