BEGIN:VCALENDAR
VERSION:2.0
PRODID:-//ChamberMaster//Event Calendar 2.0//EN
METHOD:PUBLISH
X-PUBLISHED-TTL:P3D
REFRESH-INTERVAL:P3D
CALSCALE:GREGORIAN
BEGIN:VEVENT
DTSTART:20260516T210000Z
DTEND:20260516T233000Z
X-MICROSOFT-CDO-ALLDAYEVENT:FALSE
SUMMARY:Farm Concert at Global Garden
DESCRIPTION:Come celebrate the opening concert at our farm and enjoy Cuban music\, farmer-made food\, and overall great vibes!\n\n\n\n\n\nCome listen to some music\, eat farmer made food\, and enjoy the ambiance of our farm for our opening concert of the season!\n\nSchedule of events:\n\n4:00 - Doors open / food is served\n\n5:00 - Music begins / produce is sold\n\n6:30 - End\n\nAll of our events have limited seating\, so it's encouraged to bring your own lawn chairs or arrive early for premium seating.\n\n\n\nMore about the artist:\n\nNorberto Guerra is a Cuban musician\, composer\, arranger\, and producer\, driven by a deep passion forthe vibrant rhythms of Cuban son\, enriched by the diverse influences of Caribbean and African music.His artistry captures the essence of Cuban son\, fusing traditional melodies and rhythms with theexpressive nuances of flamenco\, bossa nova\, blues\, and jazz. This fusion enables him to craft uniqueinterpretations that resonate deeply with audiences\, celebrating the richness of Cuban heritage whileembracing contemporary musical expression. Instruments: Acoustic and electric guitar\, tres cubano\,electric bass\, and Latin percussion. Education:   BFA in Classical Guitar\, Instituto Superior de las Artes(ISA)\, Havana\, Cuba (2015)   Classical Music Studies\, Escuela Nacional de las Artes (ENA)\, CubanConservatory of Music\, Havana\, Cuba (2008)
X-ALT-DESC;FMTTYPE=text/html:<div class="StructuredModuleRenderer_structuredContent__k7mNB StructuredModuleRenderer_text__GaXOv" data-testid="text-content" style="box-sizing: border-box\; padding: 0px\; margin: 0px\; color: rgb(88\, 81\, 99)\; align-self: stretch\; overflow: hidden\; text-overflow: ellipsis\; line-height: 23.94px\; letter-spacing: 0.1px\; font-size: 18px\; font-family: &quot\;Neue Plak&quot\;\, -apple-system\, BlinkMacSystemFont\, Roboto\, &quot\;Helvetica Neue&quot\;\, Helvetica\, Tahoma\, Arial\, sans-serif\;">\n<div style="box-sizing: border-box\; padding: 0px\; margin: 0px\;">\n<p style="box-sizing: border-box\; padding: 0px 0px 12px\; margin: 0px\;">Come celebrate the opening concert at our farm and enjoy Cuban music\, farmer-made food\, and overall great vibes!</p>\n</div>\n</div>\n\n<div class="StructuredModuleRenderer_structuredContent__k7mNB StructuredModuleRenderer_text__GaXOv" data-testid="text-content" style="box-sizing: border-box\; padding: 0px\; margin: 0px\; color: rgb(88\, 81\, 99)\; align-self: stretch\; overflow: hidden\; text-overflow: ellipsis\; line-height: 23.94px\; letter-spacing: 0.1px\; font-size: 18px\; font-family: &quot\;Neue Plak&quot\;\, -apple-system\, BlinkMacSystemFont\, Roboto\, &quot\;Helvetica Neue&quot\;\, Helvetica\, Tahoma\, Arial\, sans-serif\;">\n<div style="box-sizing: border-box\; padding: 0px\; margin: 0px\;">\n<p style="box-sizing: border-box\; padding: 0px 0px 12px\; margin: 0px\;">Come listen to some music\, eat farmer made food\, and enjoy the ambiance of our farm for our opening concert of the season!</p>\n\n<p style="box-sizing: border-box\; padding: 0px 0px 12px\; margin: 12px 0px 0px\;"><span style="box-sizing: border-box\; padding: 0px\; margin: 0px\; font-weight: 600\;">Schedule of events:</span></p>\n\n<p style="box-sizing: border-box\; padding: 0px 0px 12px\; margin: 12px 0px 0px\;"><span style="box-sizing: border-box\; padding: 0px\; margin: 0px\; font-weight: 600\;">4:00 - Doors open / food is served</span></p>\n\n<p style="box-sizing: border-box\; padding: 0px 0px 12px\; margin: 12px 0px 0px\;"><span style="box-sizing: border-box\; padding: 0px\; margin: 0px\; font-weight: 600\;">5:00 - Music begins / produce is sold</span></p>\n\n<p style="box-sizing: border-box\; padding: 0px 0px 12px\; margin: 12px 0px 0px\;"><span style="box-sizing: border-box\; padding: 0px\; margin: 0px\; font-weight: 600\;">6:30 - End</span></p>\n\n<p style="box-sizing: border-box\; padding: 0px 0px 12px\; margin: 12px 0px 0px\;">All of our events have limited seating\, so it&#39\;s encouraged to bring your own lawn chairs or arrive early for premium seating.</p>\n\n<p style="box-sizing: border-box\; padding: 0px 0px 12px\; margin: 12px 0px 0px\;"><br style="box-sizing: border-box\; padding: 0px\; margin: 0px\;" />\n<span style="box-sizing: border-box\; padding: 0px\; margin: 0px\; font-weight: 600\;">More about the artist</span>:</p>\n\n<p style="box-sizing: border-box\; padding: 0px 0px 12px\; margin: 12px 0px 0px\;">Norberto Guerra is a Cuban musician\, composer\, arranger\, and producer\, driven by a deep passion forthe vibrant rhythms of Cuban son\, enriched by the diverse influences of Caribbean and African music.His artistry captures the essence of Cuban son\, fusing traditional melodies and rhythms with theexpressive nuances of flamenco\, bossa nova\, blues\, and jazz. This fusion enables him to craft uniqueinterpretations that resonate deeply with audiences\, celebrating the richness of Cuban heritage whileembracing contemporary musical expression. Instruments: Acoustic and electric guitar\, tres cubano\,electric bass\, and Latin percussion. Education: &bull\; BFA in Classical Guitar\, Instituto Superior de las Artes(ISA)\, Havana\, Cuba (2015) &bull\; Classical Music Studies\, Escuela Nacional de las Artes (ENA)\, CubanConservatory of Music\, Havana\, Cuba (2008)</p>\n</div>\n</div>\n
LOCATION:Global Gardens 4815 N Sacramento Avenue
UID:e.697.54921
SEQUENCE:3
DTSTAMP:20260424T234249Z
URL:https://www.lincolnsquare.org/events/details/farm-concert-at-global-garden-54921
END:VEVENT

END:VCALENDAR
